BEGIN:VCALENDAR
VERSION:2.0
PRODID:-//wp-events-plugin.com//7.2.3.1//EN
TZID:Europe/Paris
X-WR-TIMEZONE:Europe/Paris
BEGIN:VEVENT
UID:4067@bananierbleu.fr
DTSTART;TZID=America/Martinique:20260109T200000
DTEND;TZID=America/Martinique:20260109T200000
DTSTAMP:20251228T161533Z
URL:https://bananierbleu.fr/concerts-test/eric-ildefonse-septet/
SUMMARY:Eric Ildefonse septet - La Piscine - 9 Jan 26 20:00
DESCRIPTION:\n 	Personnel : Alex MANETTE (percussions)\, Eric ILDEFONSE (pi
 ano et synthé)\, Eric PRETERE (saxophone)\, Guillaume BERNARD (batterie)\
 , Joël BONTÉ (trombone)\, Pierre WILLIET (trompette)\, Sico JOSEPH-ROSE 
 (basse)\n 	Présentation : Soirée musicale gratuite pour célébrer l'ann
 ée 2026\, avec un ensemble de sept musiciens. Accès prévu pour les pers
 onnes à mobilité réduite. Réservation fortement conseillée.\n
ATTACH;FMTTYPE=image/jpeg:https://bananierbleu.fr/wp-content/uploads/2025/
 12/Concert-eric.jpg
CATEGORIES:Concerts en Martinique
LOCATION:La Piscine\, Résidence Calypso - Les Haut de Dizac - Allée de l'
 Azur \, le Diamant\, Martinique\, 97223\, Martinique\, Martinique
X-APPLE-STRUCTURED-LOCATION;VALUE=URI;X-ADDRESS=Résidence Calypso - Les Ha
 ut de Dizac - Allée de l'Azur \, le Diamant\, Martinique\, 97223\, Martin
 ique\, Martinique;X-APPLE-RADIUS=100;X-TITLE=La Piscine:geo:0,0
END:VEVENT
BEGIN:VTIMEZONE
TZID:America/Martinique
X-LIC-LOCATION:America/Martinique
BEGIN:STANDARD
DTSTART:20250109T200000
TZOFFSETFROM:-0400
TZOFFSETTO:-0400
TZNAME:AST
END:STANDARD
END:VTIMEZONE
END:VCALENDAR