BEGIN:VCALENDAR
VERSION:2.0
PRODID:-//wp-events-plugin.com//7.2.3.1//EN
TZID:Europe/Paris
X-WR-TIMEZONE:Europe/Paris
BEGIN:VEVENT
UID:3391@bananierbleu.fr
DTSTART;TZID=America/Martinique:20220708T200000
DTEND;TZID=America/Martinique:20220708T200000
DTSTAMP:20220705T191820Z
URL:https://bananierbleu.fr/concerts-test/eric-ildefonse-trio-18/
SUMMARY:Eric Ildefonse trio - le Sax - 8 Juil 22 20:00
DESCRIPTION:Eric Ildefonse (pno)\, Joël Voisin (dms)\, Sico Joseph (b)\n\n
 PAF 15 euros
ATTACH;FMTTYPE=image/jpeg:https://bananierbleu.fr/wp-content/uploads/2022/
 07/Eric-Ildefonse-trio.jpg
CATEGORIES:Concerts en Martinique
LOCATION:le Sax\, Village de la poterie\, Trois Ilets\, Martinique\, 97229\
 , Martinique\, Martinique
GEO:14.534748;-61.01213799999999
X-APPLE-STRUCTURED-LOCATION;VALUE=URI;X-ADDRESS=Village de la poterie\, Tro
 is Ilets\, Martinique\, 97229\, Martinique\, Martinique;X-APPLE-RADIUS=100
 ;X-TITLE=le Sax:geo:14.534748,-61.01213799999999
END:VEVENT
BEGIN:VTIMEZONE
TZID:America/Martinique
X-LIC-LOCATION:America/Martinique
BEGIN:STANDARD
DTSTART:20210708T200000
TZOFFSETFROM:-0400
TZOFFSETTO:-0400
TZNAME:AST
END:STANDARD
END:VTIMEZONE
END:VCALENDAR