BEGIN:VCALENDAR
VERSION:2.0
PRODID:-//wp-events-plugin.com//7.2.3.1//EN
TZID:Europe/Paris
X-WR-TIMEZONE:Europe/Paris
BEGIN:VEVENT
UID:1760@bananierbleu.fr
DTSTART;TZID=Europe/Paris:20160402T200000
DTEND;TZID=Europe/Paris:20160402T200000
DTSTAMP:20160401T073139Z
URL:https://bananierbleu.fr/concerts-test/erik-pedurand-the-keeys-tribute-
 to-mona/
SUMMARY:Erik Pédurand & the Keeys - Tribute to Mona - Centre Culturel Soni
 s - 2 Avr 16 20:00
DESCRIPTION:Erik rend avec ses musiciens un hommage singulier à Eugène Mo
 na\, véritable porte-voix des musiques traditionnelles de la Martinique d
 ans les années 1970. Surnommé « Le Nègre debout »\, Mona\, chanteur f
 lûtiste\, était connu pour son insoumission et son militantisme. Appelan
 t à la conscience des peuples et à la défense de l’identité créole.
  C’est après sa mort en 1991 que le Chanteur entre dans la conscience c
 ollective antillaise comme Gardien immuable de la Tradition. Erik s’est 
 approprié le chant de « L’Homme aux pieds nus» et ses musiciens en on
 t redéfini les contours tout en conservant un coeur résolument Bèlè.\n
 \nDe l’enracinement à l’universel\, du tambour à l’Afro- beat\, du
  Ti-bois à l’Electro\, « Tribute to Mona » revisite les chansons les 
 plus connues d’Eugène Mona : Bwa Brilé\, Ti milo\, Bidon Dachine… Il
  est accompagné pour cette tournée caribéenne organisée par la Communa
 uté d'agglomération Cap Excellence\, le Centre culturel de Sonis et le R
 éseau de la Délégation régionale aux Alliances Françaises\, accompagn
 é de Mathieu Edouard\, Ralph Lavital\, Wendy Milton et Gwenaël Ladeux. E
 n rendant hommage à une musique douce-amère et dissidente\, il trouve ic
 i dans cette fusion un nouveau vecteur de transmission…
ATTACH;FMTTYPE=image/jpeg:https://bananierbleu.fr/wp-content/uploads/2016/
 03/ERIK-PEDURAND-and-THE-KEEYS-en-CONCERT-à-SONIS-dossier-de-presse.jpg
CATEGORIES:Concerts en Guadeloupe
LOCATION:Centre Culturel Sonis\, Rond-point Ignace\, Les Abymes\, Guadeloup
 e\, 97139\, Guadeloupe\, Guadeloupe
GEO:16.2429582;-61.53010549999999
X-APPLE-STRUCTURED-LOCATION;VALUE=URI;X-ADDRESS=Rond-point Ignace\, Les Aby
 mes\, Guadeloupe\, 97139\, Guadeloupe\, Guadeloupe;X-APPLE-RADIUS=100;X-TI
 TLE=Centre Culturel Sonis:geo:16.2429582,-61.53010549999999
END:VEVENT
BEGIN:VTIMEZONE
TZID:Europe/Paris
X-LIC-LOCATION:Europe/Paris
BEGIN:DAYLIGHT
DTSTART:20160327T030000
TZOFFSETFROM:+0100
TZOFFSETTO:+0200
TZNAME:CEST
END:DAYLIGHT
END:VTIMEZONE
END:VCALENDAR