BEGIN:VCALENDAR
VERSION:2.0
PRODID:-//wp-events-plugin.com//7.2.3.1//EN
TZID:Europe/Paris
X-WR-TIMEZONE:Europe/Paris
BEGIN:VEVENT
UID:2356@bananierbleu.fr
DTSTART;TZID=Europe/Paris:20170922T210000
DTEND;TZID=Europe/Paris:20170922T210000
DTSTAMP:20170827T112824Z
URL:https://bananierbleu.fr/concerts-test/ethioda/
SUMMARY:Ethioda - Nu Bahia - 22 Sep 17 21:00
DESCRIPTION:vendredi 22 septembre 2017\, à 21h :\nEthioda vient mettre le 
 feu au Nu-Bahia !!!\npaf : 5€\n\nVenez bouger vos épaules\, vos têtes\
 , vos jambes\, et tout le reste sur fond d'afro-beat\, jazz et funky music
  ????\n\nETHIODA\n"Du groove\, des rythmes endiable?s\, un son rond et cha
 leureux\, des envole?es jazz-electro e?bouriffantes ... une envie soudaine
  de bouger vos e?paules ? Nul doute\, c’est ici l’appel des hauts plat
 eaux d’Abyssinie qui retentit dans la musique d’Ethioda ! Une invitati
 on au voyage a? travers une musique enivrante."\n\nbiographie:\n\nTouche?s
  en plein cœur par les gammes et rythmes des contre?es e?thiopiennes\, le
 s montpellie?rains d’Ethioda font de l’Ethio-jazz leur terrain de jeu 
 musical.\nCultivant une musique dansante et fe?de?ratrice\, ces amoureux d
 u groove et de l’improvisation alimentent le brasier allume? par Mulatu 
 Astatke? dans les anne?es 60\, en y incorporant leurs influences funk\, af
 ro\, hip-hop\, reggae &amp\; jungle.\n\nApre?s « Araray »\, le groupe so
 rt aujourd’hui son 2e?me opus « Tezet Reset » en cds et vinyles. Cette
  sortie d’album est accompagne?e par l’association Gai?a Music\, La bo
 i?te a? Sandrine\, Ma Case Productions\, Le Jam et 34TOURS / De?partement 
 He?rault.\n\nEthioda re?uni 7 musiciens d’horizons diverses:\nAvec une b
 onne dose de transe « Afrobeat » conduite par une partie de l’ancienne
  section rythmique de Fanga (Eric Durand\, percussionniste du groupe\, et 
 le batteur Samuel Devauchelle)\, saxophone (Armel Courrée)\, trombone (Pa
 scal Bouvier)\, guitare (Baptiste Clerc) et claviers (Daniel Moreau) ajout
 ent l’aura me?lodique au groupe instrumental. La basse est tenue par Rom
 ain Delorme\, que l’on peut e?galement entendre dans les groupes de rock
  Volin et Poussin.\n\nCompositions du groupe ou arrangements de chants tra
 ditionnels a? la sauce jungle\, tous les pre?textes sont bons chez ces add
 icts de la transe pour entrai?ner le public dans la danse\, sur fond de so
 los de?jante?s et grooves ine?puisables !\n\nhttps://www.facebook.com/ethi
 oda\nhttps://ethiodamusic.bandcamp.com/
ATTACH;FMTTYPE=image/jpeg:https://bananierbleu.fr/wp-content/uploads/2017/
 08/21125376_1147187495381106_5452708080420902664_o.jpg
CATEGORIES:Concerts en France
LOCATION:Nu Bahia\, 4 rue Lunaret\, Montpellier\, 34000\, Occitanie\, Franc
 e
GEO:43.6159687;3.879232199999933
X-APPLE-STRUCTURED-LOCATION;VALUE=URI;X-ADDRESS=4 rue Lunaret\, Montpellier
 \, 34000\, Occitanie\, France;X-APPLE-RADIUS=100;X-TITLE=Nu Bahia:geo:43.6
 159687,3.879232199999933
END:VEVENT
BEGIN:VTIMEZONE
TZID:Europe/Paris
X-LIC-LOCATION:Europe/Paris
BEGIN:DAYLIGHT
DTSTART:20170326T030000
TZOFFSETFROM:+0100
TZOFFSETTO:+0200
TZNAME:CEST
END:DAYLIGHT
END:VTIMEZONE
END:VCALENDAR