BEGIN:VCALENDAR
VERSION:2.0
PRODID:-//wp-events-plugin.com//7.2.3.1//EN
TZID:Europe/Paris
X-WR-TIMEZONE:Europe/Paris
BEGIN:VEVENT
UID:2961@bananierbleu.fr
DTSTART;TZID=America/Martinique:20190815T181500
DTEND;TZID=America/Martinique:20190815T181500
DTSTAMP:20190802T144553Z
URL:https://bananierbleu.fr/concerts-test/etienne-charles/
SUMMARY:Etienne charles - l'Appaloosa - 15 Août 19 18:15
DESCRIPTION:L’un des jeunes artistes de jazz les plus captivants et les p
 lus excitants qui introduit le genre dans un nouveau territoire révolutio
 nnaire\, est le trompettiste et chef d’orchestre Etienne Charles\, qui a
  déjà enregistré trois albums impressionnants sur son propre label Cult
 ure Shock Music. Son nouvel album\, “Carnival” \, est un voyage passio
 nnant et vivifiant unissant les méthodes Trinidadiennes aux nouvelles exp
 ressions d’un jazz en parfaite métamorphose! Il est en train de devenir
  un compositeur avec lequel il faut compter. L’année dernière\, il est
  devenu le plus récent membre du SFJAZZ Collective\, le premier groupe de
  jazz contemporain. Après un passage remarqué au Biguine Jazz Festival e
 n 2014\, le “Prince du Jazz Créole” reviendra en Martinique pour pré
 senter son nouvel et 7ème album “Carnival”!
ATTACH;FMTTYPE=image/jpeg:https://bananierbleu.fr/wp-content/uploads/2019/
 08/bjf2019_concert.jpg
CATEGORIES:Concerts en Martinique
LOCATION:l'Appaloosa\, Réunion Sud\, le François\, Martinique\, 97240\, M
 artinique\, Martinique
GEO:14.6003752;-60.9294678
X-APPLE-STRUCTURED-LOCATION;VALUE=URI;X-ADDRESS=Réunion Sud\, le François
 \, Martinique\, 97240\, Martinique\, Martinique;X-APPLE-RADIUS=100;X-TITLE
 =l'Appaloosa:geo:14.6003752,-60.9294678
END:VEVENT
BEGIN:VTIMEZONE
TZID:America/Martinique
X-LIC-LOCATION:America/Martinique
BEGIN:STANDARD
DTSTART:20180815T181500
TZOFFSETFROM:-0400
TZOFFSETTO:-0400
TZNAME:AST
END:STANDARD
END:VTIMEZONE
END:VCALENDAR