BEGIN:VCALENDAR
VERSION:2.0
PRODID:-//wp-events-plugin.com//7.2.3.1//EN
TZID:Europe/Paris
X-WR-TIMEZONE:Europe/Paris
BEGIN:VEVENT
UID:4064@bananierbleu.fr
DTSTART;TZID=Europe/Paris:20260110T203000
DTEND;TZID=Europe/Paris:20260110T203000
DTSTAMP:20251219T191031Z
URL:https://bananierbleu.fr/concerts-test/etienne-mbappe-quintet-4/
SUMMARY:Etienne Mbappé quintet - Conservatoire de Musique de Conflans Ste 
 Honorine - 10 Jan 26 20:30
DESCRIPTION:\n 	Personnel : Anthony Jambon (guitare)\, Christophe Cravero (
 piano\, violon)\, Étienne MBappé (basse\, voix\, lead)\, Nicolas Viccaro
  (batterie)\, Phil Desbois (guitare\, mandoline\, violoncelle)\n 	Présent
 ation : Étienne MBappé\, bassiste reconnu pour ses collaborations avec d
 es artistes comme John McLaughlin\, Manu Dibango ou Santana\, présente so
 n quintet dans un concert mêlant jazz et world music. La soirée s’ouvr
 e avec l’Atelier de COP du conservatoire de Versailles.\n
ATTACH;FMTTYPE=image/jpeg:https://bananierbleu.fr/wp-content/uploads/2025/
 12/Etienne_Mbappe_Confluent.webp
CATEGORIES:Concerts en France
LOCATION:Conservatoire de Musique de Conflans Ste Honorine\, 74 Rue Désir
 é Clément\, Conflans-Sainte-Honorine\, Île de France\, 78700\, IleDeFra
 nce\, France
X-APPLE-STRUCTURED-LOCATION;VALUE=URI;X-ADDRESS=74 Rue Désiré Clément\, 
 Conflans-Sainte-Honorine\, Île de France\, 78700\, IleDeFrance\, France;X
 -APPLE-RADIUS=100;X-TITLE=Conservatoire de Musique de Conflans Ste Honorin
 e:geo:0,0
END:VEVENT
BEGIN:VTIMEZONE
TZID:Europe/Paris
X-LIC-LOCATION:Europe/Paris
BEGIN:STANDARD
DTSTART:20251026T020000
TZOFFSETFROM:+0200
TZOFFSETTO:+0100
TZNAME:CET
END:STANDARD
END:VTIMEZONE
END:VCALENDAR