BEGIN:VCALENDAR
VERSION:2.0
PRODID:-//wp-events-plugin.com//7.2.3.1//EN
TZID:Europe/Paris
X-WR-TIMEZONE:Europe/Paris
BEGIN:VEVENT
UID:2407@bananierbleu.fr
DTSTART;TZID=Europe/Paris:20171012T213000
DTEND;TZID=Europe/Paris:20171014T213000
DTSTAMP:20171011T103956Z
URL:https://bananierbleu.fr/concerts-test/etienne-mbappe-the-prophets-23/
SUMMARY:Etienne Mbappé & the Prophets - le Baiser Salé - 12 Oct 17 21:30
DESCRIPTION:Etienne Mbappé (b\, vcls)\, Nicholas Vella (pno)\, Anthony Jam
 bon (g)\, Clément Janinet (vln)\, Arno de Casanove (tp)\, Balthazar Natur
 el (sax)\, Nicolas Viccaro (dms)
ATTACH;FMTTYPE=image/jpeg:https://bananierbleu.fr/wp-content/uploads/2017/
 10/22426320_1979799465379920_1740986478400661294_o.jpg
CATEGORIES:Concerts en France
LOCATION:le Baiser Salé\, 58\, rue des Lombards\, Paris\, Île de France\,
  75001\, IleDeFrance\, France
GEO:48.8598;2.34791
X-APPLE-STRUCTURED-LOCATION;VALUE=URI;X-ADDRESS=58\, rue des Lombards\, Par
 is\, Île de France\, 75001\, IleDeFrance\, France;X-APPLE-RADIUS=100;X-TI
 TLE=le Baiser Salé:geo:48.8598,2.34791
END:VEVENT
BEGIN:VTIMEZONE
TZID:Europe/Paris
X-LIC-LOCATION:Europe/Paris
BEGIN:DAYLIGHT
DTSTART:20170326T030000
TZOFFSETFROM:+0100
TZOFFSETTO:+0200
TZNAME:CEST
END:DAYLIGHT
END:VTIMEZONE
END:VCALENDAR