BEGIN:VCALENDAR
VERSION:2.0
PRODID:-//wp-events-plugin.com//7.2.3.1//EN
TZID:Europe/Paris
X-WR-TIMEZONE:Europe/Paris
BEGIN:VEVENT
UID:4052@bananierbleu.fr
DTSTART;TZID=Europe/Paris:20251231T223000
DTEND;TZID=Europe/Paris:20251231T223000
DTSTAMP:20251125T135535Z
URL:https://bananierbleu.fr/concerts-test/etienne-mbappe-the-prophets-29/
SUMMARY:Etienne Mbappé & The Prophets - le Baiser Salé - 31 Déc 25 22:30
DESCRIPTION:\n 	Personnel : Anthony Jambon (guitare)\, Arno de Casanove (tr
 ompette)\, Balthazar Naturel (saxophone ténor)\, Darius Moglia (saxophone
  alto)\, Etienne Mbappé (basse/voix)\, Nicolas Viccaro (batterie)\n 	Pré
 sentation : Artiste majeur de la scène jazz fusion internationale\, Etien
 ne Mbappé s’est imposé par un jeu de basse unique\, fluide et mélodiq
 ue. Avec The Prophets\, il propose une musique à la croisée du jazz\, de
 s musiques africaines et de l’improvisation contemporaine. Ce projet ré
 unit des musiciens d’exception pour une traversée musicale profonde et 
 festive\, idéale pour clôturer l’année et entrer en 2026 sous le sign
 e de la liberté et du partage.\n
ATTACH;FMTTYPE=image/jpeg:https://bananierbleu.fr/wp-content/uploads/2025/
 11/791-the-prophets-site.jpg
CATEGORIES:Concerts en France
LOCATION:le Baiser Salé\, 58\, rue des Lombards\, Paris\, Île de France\,
  75001\, IleDeFrance\, France
GEO:48.8598;2.34791
X-APPLE-STRUCTURED-LOCATION;VALUE=URI;X-ADDRESS=58\, rue des Lombards\, Par
 is\, Île de France\, 75001\, IleDeFrance\, France;X-APPLE-RADIUS=100;X-TI
 TLE=le Baiser Salé:geo:48.8598,2.34791
END:VEVENT
BEGIN:VTIMEZONE
TZID:Europe/Paris
X-LIC-LOCATION:Europe/Paris
BEGIN:STANDARD
DTSTART:20251026T020000
TZOFFSETFROM:+0200
TZOFFSETTO:+0100
TZNAME:CET
END:STANDARD
END:VTIMEZONE
END:VCALENDAR