BEGIN:VCALENDAR
VERSION:2.0
PRODID:-//wp-events-plugin.com//7.2.3.1//EN
TZID:Europe/Paris
X-WR-TIMEZONE:Europe/Paris
BEGIN:VEVENT
UID:3174@bananierbleu.fr
DTSTART;TZID=America/Guadeloupe:20210305T193000
DTEND;TZID=America/Guadeloupe:20210305T193000
DTSTAMP:20210225T094213Z
URL:https://bananierbleu.fr/concerts-test/evaiana/
SUMMARY:Evaïana - Le Café Philosophie - 5 Mar 21 19:30
DESCRIPTION:Evaïana\, c’est d’abord la rencontre entre deux instrument
 s inédits\, « Le Flûte amérindienne et le Stick Chapman ». L’union 
 d’un homme et d’une femme\, une synergie entre deux univers artistique
 s : un souffle de zénitude sur des rythmes ensoleillés. Prouesse techniq
 ue et imagination\, ce sont deux aspects du travail artistique d’Evaïan
 a. Les percussions sont réalisées à la bouche (Beat Box)\, les instrume
 nts\, Guitare\, Basse\, Voix\, Sifflet\, Stick Chapman et Flûte amérindi
 enne sont enregistrés en live puis superposés les uns aux autres : ce qu
 i amplifie considérablement la masse sonore. A deux\, ils donnent l’imp
 ression d’être nombreux sur scène. Depuis 2017\, ce duo originaire de 
 Guadeloupe et de Martinique\, composé de Noëmie Sordillon et de David Bl
 amèbe\, a su créer un style musical à part entière\, unique et innovan
 t dans le paysage caribéen. Evaïana est une invitation au voyage avec de
 s compositions originales qui font naître une musique inspirée des 4 coi
 ns du Monde : la World Music Caribéenne.
ATTACH;FMTTYPE=image/jpeg:https://bananierbleu.fr/wp-content/uploads/2021/
 02/Evaiana.jpg
CATEGORIES:Concerts en Guadeloupe
LOCATION:Le Café Philosophie\, Imm. Ary Encelade - Boulevard de Houelbourg
 \, Baie-Mahault\, Guadeloupe\, 97122\, Guadeloupe\, Guadeloupe
X-APPLE-STRUCTURED-LOCATION;VALUE=URI;X-ADDRESS=Imm. Ary Encelade - Bouleva
 rd de Houelbourg\, Baie-Mahault\, Guadeloupe\, 97122\, Guadeloupe\, Guadel
 oupe;X-APPLE-RADIUS=100;X-TITLE=Le Café Philosophie:geo:0,0
END:VEVENT
BEGIN:VTIMEZONE
TZID:America/Guadeloupe
X-LIC-LOCATION:America/Guadeloupe
BEGIN:STANDARD
DTSTART:20200305T193000
TZOFFSETFROM:-0400
TZOFFSETTO:-0400
TZNAME:AST
END:STANDARD
END:VTIMEZONE
END:VCALENDAR