BEGIN:VCALENDAR
VERSION:2.0
PRODID:-//wp-events-plugin.com//7.2.3.1//EN
TZID:Europe/Paris
X-WR-TIMEZONE:Europe/Paris
BEGIN:VEVENT
UID:2372@bananierbleu.fr
DTSTART;TZID=Europe/Paris:20171128T130000
DTEND;TZID=Europe/Paris:20171128T130000
DTSTAMP:20170907T100209Z
URL:https://bananierbleu.fr/concerts-test/expeka-trio-3/
SUMMARY:Expéka Trio - Université Paris XIII - 28 Nov 17 13:00
DESCRIPTION:Depuis quatre siècles\, le tambour Ka accompagne les soirées 
 lewoz\, mais aussi les revendications des antillais. Qui pouvait rendre me
 illeur hommage à cette musique traditionnelle que les deux artistes Casey
  et Sonny Troupé ? Elle\, fille de martiniquais née et élevée en métr
 opole\, a choisi le rap pour s’approprier sa culture antillaise et déno
 ncer les maux de sa génération. Lui\, est un percussionniste dont le tam
 bour Ka a été le premier instrument. Ensemble\, ils forment Expérience 
 Ka ou la furieuse modernité d’un gwoka d’ici et de là-bas.\n\n\n\n\n
 FORMULE à 3 ExpéKa Trio\nCasey voix • Sonny Troupé percussions • C
 élia Wa flûte\, voix\n\n\n\n
ATTACH;FMTTYPE=image/jpeg:https://bananierbleu.fr/wp-content/uploads/2017/
 05/Sonny_concert.jpg
CATEGORIES:Concerts en France
LOCATION:Université Paris XIII\, Campus de Bobigny\, 54 rue Marcel Cachin\
 , Bobigny\, 93000\, France
GEO:48.91397569999999;2.4180114000000685
X-APPLE-STRUCTURED-LOCATION;VALUE=URI;X-ADDRESS=Campus de Bobigny\, 54 rue 
 Marcel Cachin\, Bobigny\, 93000\, France;X-APPLE-RADIUS=100;X-TITLE=Univer
 sité Paris XIII:geo:48.91397569999999,2.4180114000000685
END:VEVENT
BEGIN:VTIMEZONE
TZID:Europe/Paris
X-LIC-LOCATION:Europe/Paris
BEGIN:STANDARD
DTSTART:20171029T020000
TZOFFSETFROM:+0200
TZOFFSETTO:+0100
TZNAME:CET
END:STANDARD
END:VTIMEZONE
END:VCALENDAR