BEGIN:VCALENDAR
VERSION:2.0
PRODID:-//wp-events-plugin.com//7.2.3.1//EN
TZID:Europe/Paris
X-WR-TIMEZONE:Europe/Paris
BEGIN:VEVENT
UID:2370@bananierbleu.fr
DTSTART;TZID=Europe/Paris:20171204T200000
DTEND;TZID=Europe/Paris:20171204T200000
DTSTAMP:20170907T095356Z
URL:https://bananierbleu.fr/concerts-test/expeka-trio/
SUMMARY:Expéka Trio - Maison de Radio France / Studio 104 - 4 Déc 17 20:0
 0
DESCRIPTION:Depuis quatre siècles\, le tambour Ka accompagne les soirées 
 lewoz\, mais aussi les revendications des antillais. Qui pouvait rendre me
 illeur hommage à cette musique traditionnelle que les deux artistes Casey
  et Sonny Troupé ? Elle\, fille de martiniquais née et élevée en métr
 opole\, a choisi le rap pour s’approprier sa culture antillaise et déno
 ncer les maux de sa génération. Lui\, est un percussionniste dont le tam
 bour Ka a été le premier instrument. Ensemble\, ils forment Expérience 
 Ka ou la furieuse modernité d’un gwoka d’ici et de là-bas.\n\n\n\n\n
 FORMULE à 3 ExpéKa Trio\nCasey voix • Sonny Troupé percussions • C
 élia Wa flûte\, voix\n\nFORMULE à 6 ExpéKa\nCasey voix • Sonny Troup
 é percussions • Olivier Juste percussions • Stéphane Castry basse 
 • Didier Davidas clavier • Célia Wa flûte\, voix\n\n\n\n
ATTACH;FMTTYPE=image/jpeg:https://bananierbleu.fr/wp-content/uploads/2017/
 05/Sonny_concert.jpg
CATEGORIES:Concerts en France
LOCATION:Maison de Radio France / Studio 104\, 116 avenue du Président Ken
 nedy\, Paris\, Île de France\, 75116\, IleDeFrance\, France
GEO:48.853091;2.280436
X-APPLE-STRUCTURED-LOCATION;VALUE=URI;X-ADDRESS=116 avenue du Président Ke
 nnedy\, Paris\, Île de France\, 75116\, IleDeFrance\, France;X-APPLE-RADI
 US=100;X-TITLE=Maison de Radio France / Studio 104:geo:48.853091,2.280436
END:VEVENT
BEGIN:VTIMEZONE
TZID:Europe/Paris
X-LIC-LOCATION:Europe/Paris
BEGIN:STANDARD
DTSTART:20171029T020000
TZOFFSETFROM:+0200
TZOFFSETTO:+0100
TZNAME:CET
END:STANDARD
END:VTIMEZONE
END:VCALENDAR