BEGIN:VCALENDAR
VERSION:2.0
PRODID:-//wp-events-plugin.com//7.2.3.1//EN
TZID:Europe/Paris
X-WR-TIMEZONE:Europe/Paris
BEGIN:VEVENT
UID:2172@bananierbleu.fr
DTSTART;TZID=Europe/Paris:20170422T200000
DTEND;TZID=Europe/Paris:20170422T200000
DTSTAMP:20170327T182046Z
URL:https://bananierbleu.fr/concerts-test/fabiano-creole-blues-band-2/
SUMMARY:Fabiano & Créole Blues Band - l'Assomoir Cabaret - 22 Avr 17 20:00
DESCRIPTION:Come to celebrate "Earth Day" with us!\n\nFolk/blues\, reggae\,
  jazz biguine\, roots music
ATTACH;FMTTYPE=image/jpeg:https://bananierbleu.fr/wp-content/uploads/2017/
 03/17504297_1960249530656661_1097769291743335124_o.jpg
CATEGORIES:Concerts à l'étranger
LOCATION:l'Assomoir Cabaret\, 211 Notre Dame West\, Montréal\, Québec\, Q
 C H2Y 1T4\, Québec\, Canada
GEO:45.50376790000001;-73.5576059
X-APPLE-STRUCTURED-LOCATION;VALUE=URI;X-ADDRESS=211 Notre Dame West\, Montr
 éal\, Québec\, QC H2Y 1T4\, Québec\, Canada;X-APPLE-RADIUS=100;X-TITLE=
 l'Assomoir Cabaret:geo:45.50376790000001,-73.5576059
END:VEVENT
BEGIN:VTIMEZONE
TZID:Europe/Paris
X-LIC-LOCATION:Europe/Paris
BEGIN:DAYLIGHT
DTSTART:20170326T030000
TZOFFSETFROM:+0100
TZOFFSETTO:+0200
TZNAME:CEST
END:DAYLIGHT
END:VTIMEZONE
END:VCALENDAR