BEGIN:VCALENDAR
VERSION:2.0
PRODID:-//wp-events-plugin.com//7.2.3.1//EN
TZID:Europe/Paris
X-WR-TIMEZONE:Europe/Paris
BEGIN:VEVENT
UID:1523@bananierbleu.fr
DTSTART;TZID=Europe/Paris:20151031T200000
DTEND;TZID=Europe/Paris:20151031T200000
DTSTAMP:20150925T071516Z
URL:https://bananierbleu.fr/concerts-test/fal-frett-3/
SUMMARY:Fal Frett - l'Appaloosa - 31 Oct 15 20:00
DESCRIPTION:la formation Fal Frett déposera ses fly cases le dans le magni
 fique cadre des jardins de l’Appaloosa et vous transportera entre stand
 ards\, classiques et inédits…\nPossibilité de diner sur place - Tarif 
 Prévente 25 euros
CATEGORIES:Concerts en Martinique
LOCATION:l'Appaloosa\, Réunion Sud\, le François\, Martinique\, 97240\, M
 artinique\, Martinique
GEO:14.6003752;-60.9294678
X-APPLE-STRUCTURED-LOCATION;VALUE=URI;X-ADDRESS=Réunion Sud\, le François
 \, Martinique\, 97240\, Martinique\, Martinique;X-APPLE-RADIUS=100;X-TITLE
 =l'Appaloosa:geo:14.6003752,-60.9294678
END:VEVENT
BEGIN:VTIMEZONE
TZID:Europe/Paris
X-LIC-LOCATION:Europe/Paris
BEGIN:STANDARD
DTSTART:20151025T020000
TZOFFSETFROM:+0200
TZOFFSETTO:+0100
TZNAME:CET
END:STANDARD
END:VTIMEZONE
END:VCALENDAR