BEGIN:VCALENDAR
VERSION:2.0
PRODID:-//wp-events-plugin.com//7.2.3.1//EN
TZID:Europe/Paris
X-WR-TIMEZONE:Europe/Paris
BEGIN:VEVENT
UID:2315@bananierbleu.fr
DTSTART;TZID=Europe/Paris:20170718T200000
DTEND;TZID=Europe/Paris:20170718T200000
DTSTAMP:20170713T091632Z
URL:https://bananierbleu.fr/concerts-test/fal-frett-4/
SUMMARY:Fal Frett - l'Appaloosa - 18 Juil 17 20:00
DESCRIPTION:
ATTACH;FMTTYPE=image/jpeg:https://bananierbleu.fr/wp-content/uploads/2017/
 07/DEDwurLW0AITYpM.jpg
CATEGORIES:Concerts en Martinique
LOCATION:l'Appaloosa\, Réunion Sud\, le François\, Martinique\, 97240\, M
 artinique\, Martinique
GEO:14.6003752;-60.9294678
X-APPLE-STRUCTURED-LOCATION;VALUE=URI;X-ADDRESS=Réunion Sud\, le François
 \, Martinique\, 97240\, Martinique\, Martinique;X-APPLE-RADIUS=100;X-TITLE
 =l'Appaloosa:geo:14.6003752,-60.9294678
END:VEVENT
BEGIN:VTIMEZONE
TZID:Europe/Paris
X-LIC-LOCATION:Europe/Paris
BEGIN:DAYLIGHT
DTSTART:20170326T030000
TZOFFSETFROM:+0100
TZOFFSETTO:+0200
TZNAME:CEST
END:DAYLIGHT
END:VTIMEZONE
END:VCALENDAR