BEGIN:VCALENDAR
VERSION:2.0
PRODID:-//wp-events-plugin.com//7.2.3.1//EN
TZID:Europe/Paris
X-WR-TIMEZONE:Europe/Paris
BEGIN:VEVENT
UID:519@bananierbleu.fr
DTSTART;TZID=Europe/Paris:20130529T200000
DTEND;TZID=Europe/Paris:20130529T200000
DTSTAMP:20130507T064534Z
URL:https://bananierbleu.fr/concerts-test/fal-frett/
SUMMARY:Fal Frett - l'Atrium Martinique - 29 Mai 13 20:00
DESCRIPTION:
CATEGORIES:Concerts en Martinique
LOCATION:l'Atrium Martinique\, 6 rue Jacques Cazotte\, Fort de France\, Mar
 tinique\, 97200\, Martinique\, Martinique
GEO:14.605426;-61.0660431
X-APPLE-STRUCTURED-LOCATION;VALUE=URI;X-ADDRESS=6 rue Jacques Cazotte\, For
 t de France\, Martinique\, 97200\, Martinique\, Martinique;X-APPLE-RADIUS=
 100;X-TITLE=l'Atrium Martinique:geo:14.605426,-61.0660431
END:VEVENT
BEGIN:VTIMEZONE
TZID:Europe/Paris
X-LIC-LOCATION:Europe/Paris
BEGIN:DAYLIGHT
DTSTART:20130331T030000
TZOFFSETFROM:+0100
TZOFFSETTO:+0200
TZNAME:CEST
END:DAYLIGHT
END:VTIMEZONE
END:VCALENDAR