BEGIN:VCALENDAR
VERSION:2.0
PRODID:-//wp-events-plugin.com//7.2.3.1//EN
TZID:Europe/Paris
X-WR-TIMEZONE:Europe/Paris
BEGIN:VEVENT
UID:2317@bananierbleu.fr
DTSTART;TZID=Europe/Paris:20170714T213000
DTEND;TZID=Europe/Paris:20170714T213000
DTSTAMP:20170713T094120Z
URL:https://bananierbleu.fr/concerts-test/felix-toca-trio-ciguaraya-2/
SUMMARY:Felix Toca & son trio Ciguaraya - le Baiser Salé - 14 Juil 17 21:3
 0
DESCRIPTION:Un bassiste cubain passé sur les bancs de l’école du chante
 ur Benny Moré\, qui asticote de façon&nbsp\; très jazzy des rythmes afr
 o-cubains et caribéens avec voix et contrebasse.?Originaire de la Havane\
 , Félix Toca est un musicien accompli\, avec un bagage impressionnant. So
 n professionnalisme et son talent lui ont fait valoir une renommée tant 
 à Paris qu'en Europe.?Arrivé en France en 1999 il enregistre avec Deldon
 go\, Ricardo Torres\, Jose Luis Estrada\, Laurent Hounsavi… et créé so
 n projet Ciguaraya Trio\, cocktail inédit de rythmes caribéen\, principa
 lement afro-cubains fusionnés avec le jazz et la musique latine.?Ce soir\
 , il vous invite à découvrir une nouvelle vision sur le Latin Jazz\, des
  racines Afro-Cubaines jusqu'aux musiques actuellement les plus courantes.
ATTACH;FMTTYPE=image/jpeg:https://bananierbleu.fr/wp-content/uploads/2017/
 07/7h8g.jpeg
CATEGORIES:Concerts en France
LOCATION:le Baiser Salé\, 58\, rue des Lombards\, Paris\, Île de France\,
  75001\, IleDeFrance\, France
GEO:48.8598;2.34791
X-APPLE-STRUCTURED-LOCATION;VALUE=URI;X-ADDRESS=58\, rue des Lombards\, Par
 is\, Île de France\, 75001\, IleDeFrance\, France;X-APPLE-RADIUS=100;X-TI
 TLE=le Baiser Salé:geo:48.8598,2.34791
END:VEVENT
BEGIN:VTIMEZONE
TZID:Europe/Paris
X-LIC-LOCATION:Europe/Paris
BEGIN:DAYLIGHT
DTSTART:20170326T030000
TZOFFSETFROM:+0100
TZOFFSETTO:+0200
TZNAME:CEST
END:DAYLIGHT
END:VTIMEZONE
END:VCALENDAR