BEGIN:VCALENDAR
VERSION:2.0
PRODID:-//wp-events-plugin.com//7.2.3.1//EN
TZID:Europe/Paris
X-WR-TIMEZONE:Europe/Paris
BEGIN:VEVENT
UID:1787@bananierbleu.fr
DTSTART;TZID=Europe/Paris:20160623T213000
DTEND;TZID=Europe/Paris:20160623T213000
DTSTAMP:20160425T102214Z
URL:https://bananierbleu.fr/concerts-test/festival-vocal-veronique-hermann
 -sambin/
SUMMARY:[Festival Vocal] Véronique Hermann Sambin - Sunset - 23 Juin 16 21
 :30
DESCRIPTION:Véronique Hermann Sambin – chant \; Xavier Richardeau – sa
 x \; Frédéric Nardin – piano \; Damien Varaillon – c.basse \; Romain
  Sarron – batterie\n\nA chacun sa pierre précieuse. Certains pensent di
 amant\, saphir\, émeraude ou rubis. Véronique Hermann Sambin\, c’est l
 e basalte qui l’exalte. Elle a choisi cette roche volcanique à la coule
 ur entre chien et loup pour nommer son deuxième album\, dont la floraison
  arrive trois années après le premier\, Ròz Jériko. La chanteuse\, par
 olière et compositrice signe la quasi-totalité des titres et reprend le 
 magnifique poème “Love After Love” du caribéen Derek Walcott\, prix 
 Nobel de littérature. Si le français et l’anglais sont présents\, dan
 s Basalte\, le créole\, avec ses rondeurs chamarrées\, son délié féli
 n\, prend avantageusement ses aises\, il irradie de sa présence majuscule
 .\n\nLa caribéenne s’entoure d'un quintet idéal\, musiciens superbes d
 e talent et de générosité\, qui nous rappellent que les meilleures part
 ies de musique\, comme de plaisir\, se partagent. On s’installe\, on éc
 oute\, on s’oublie et l’on se retrouve sur une plage déserte de sable
  noir ou accoudé au bar du dernier club de jazz de la ville\; bercé par 
 les alizés dans un vieux rocking-chair en bambou ou embarqué dans un mar
 ching band de militants écologistes\; plongé au cœur d’un océan de r
 êves à la dérive ou encore…debout devant son propre miroir. Véroniqu
 e Hermann Sambin enchante\, chante\, de belles histoires à vous tenir en 
 éveil\, le temps d’une soirée et bien plus encore…\n\nThe french jaz
 z singer from the caribbean Véronique Hermann Sambin will take you in a d
 ream full of great pictures from her last album «Basalte».
ATTACH;FMTTYPE=image/jpeg:https://bananierbleu.fr/wp-content/uploads/2014/
 05/vhermannsambin_concert400.jpg
CATEGORIES:Concerts en France
LOCATION:Sunset\, 60 rue des Lombards\, Paris\, Île de France\, 75001\, Il
 eDeFrance\, France
GEO:48.859937;2.347751
X-APPLE-STRUCTURED-LOCATION;VALUE=URI;X-ADDRESS=60 rue des Lombards\, Paris
 \, Île de France\, 75001\, IleDeFrance\, France;X-APPLE-RADIUS=100;X-TITL
 E=Sunset:geo:48.859937,2.347751
END:VEVENT
BEGIN:VTIMEZONE
TZID:Europe/Paris
X-LIC-LOCATION:Europe/Paris
BEGIN:DAYLIGHT
DTSTART:20160327T030000
TZOFFSETFROM:+0100
TZOFFSETTO:+0200
TZNAME:CEST
END:DAYLIGHT
END:VTIMEZONE
END:VCALENDAR