BEGIN:VCALENDAR
VERSION:2.0
PRODID:-//wp-events-plugin.com//7.2.3.1//EN
TZID:Europe/Paris
X-WR-TIMEZONE:Europe/Paris
BEGIN:VEVENT
UID:580@bananierbleu.fr
DTSTART;TZID=Europe/Paris:20130724T200000
DTEND;TZID=Europe/Paris:20130724T200000
DTSTAMP:20130719T071921Z
URL:https://bananierbleu.fr/concerts-test/florence-naprix/
SUMMARY:Florence Naprix - LaKaza - 24 Juil 13 20:00
DESCRIPTION:
CATEGORIES:Concerts en Guadeloupe
LOCATION:LaKaza\, rue Thomas Edison\, Baie-Mahault\, Guadeloupe\, 97122\, G
 uadeloupe\, France
GEO:16.253401;-61.565601
X-APPLE-STRUCTURED-LOCATION;VALUE=URI;X-ADDRESS=rue Thomas Edison\, Baie-Ma
 hault\, Guadeloupe\, 97122\, Guadeloupe\, France;X-APPLE-RADIUS=100;X-TITL
 E=LaKaza:geo:16.253401,-61.565601
END:VEVENT
BEGIN:VTIMEZONE
TZID:Europe/Paris
X-LIC-LOCATION:Europe/Paris
BEGIN:DAYLIGHT
DTSTART:20130331T030000
TZOFFSETFROM:+0100
TZOFFSETTO:+0200
TZNAME:CEST
END:DAYLIGHT
END:VTIMEZONE
END:VCALENDAR