BEGIN:VCALENDAR
VERSION:2.0
PRODID:-//wp-events-plugin.com//7.2.3.1//EN
TZID:Europe/Paris
X-WR-TIMEZONE:Europe/Paris
BEGIN:VEVENT
UID:2675@bananierbleu.fr
DTSTART;TZID=Europe/Paris:20180919T213000
DTEND;TZID=Europe/Paris:20180919T213000
DTSTAMP:20180814T084604Z
URL:https://bananierbleu.fr/concerts-test/florian-gustave-richie-storm-qua
 rtet/
SUMMARY:Florian Gustave "Richie Storm" quartet - le Baiser Salé - 19 Sep 1
 8 21:30
DESCRIPTION:FLORIAN GUSTAVE piano\nZAHEB HAMA sax\nJACQUES MAYET basse\nUGO
  STRADELLA batterie\n\nRichie Storm crée un monde tropical avec la saveur
  du swing et les rythmes colorés des Antilles. Une très très belle déc
 ouverte. Les compositions se placent dans la lignée de Mario Canonge\, Gr
 égory Privat\, Sonny Troupé\, sans oublier les arrangements des incontou
 rnables Miles Davis\, Herbie Hancock\,…
ATTACH;FMTTYPE=image/jpeg:https://bananierbleu.fr/wp-content/uploads/2018/
 08/949-FlorianGustavebS.jpg
CATEGORIES:Concerts en France
LOCATION:le Baiser Salé\, 58\, rue des Lombards\, Paris\, Île de France\,
  75001\, IleDeFrance\, France
GEO:48.8598;2.34791
X-APPLE-STRUCTURED-LOCATION;VALUE=URI;X-ADDRESS=58\, rue des Lombards\, Par
 is\, Île de France\, 75001\, IleDeFrance\, France;X-APPLE-RADIUS=100;X-TI
 TLE=le Baiser Salé:geo:48.8598,2.34791
END:VEVENT
BEGIN:VTIMEZONE
TZID:Europe/Paris
X-LIC-LOCATION:Europe/Paris
BEGIN:DAYLIGHT
DTSTART:20180325T030000
TZOFFSETFROM:+0100
TZOFFSETTO:+0200
TZNAME:CEST
END:DAYLIGHT
END:VTIMEZONE
END:VCALENDAR