BEGIN:VCALENDAR
VERSION:2.0
PRODID:-//wp-events-plugin.com//7.2.3.1//EN
TZID:Europe/Paris
X-WR-TIMEZONE:Europe/Paris
BEGIN:VEVENT
UID:4122@bananierbleu.fr
DTSTART;TZID=America/Martinique:20260507T190000
DTEND;TZID=America/Martinique:20260507T190000
DTSTAMP:20260425T085751Z
URL:https://bananierbleu.fr/concerts-test/fola-gadet/
SUMMARY:Fola Gadet - Tropiques Atrium - scène nationale - 7 Mai 26 19:00
DESCRIPTION:\n 	Personnel : Fola Gadet (Pawoleur)\, José Exili (Mise en sc
 ène)\, Kelly Gustarimac (Dansèz)\, Jeff Baillard (Architecture sonore)\,
  Ernest Pépin (Texte)\n 	Présentation : Fola Gadet\, artiste de la parol
 e\, met en voix "Le Tanbouyé des sans-voix" d’Ernest Pépin\, rendant h
 ommage au musicien Marcel Lollia dit Vélo\, apôtre du Gwoka. Ce spectacl
 e allie parole\, danse et architecture sonore pour une expérience culture
 lle immersive.\n
ATTACH;FMTTYPE=image/jpeg:https://bananierbleu.fr/wp-content/uploads/2026/
 04/Fola_Gadet.jpg
CATEGORIES:Concerts en Martinique
LOCATION:Tropiques Atrium - scène nationale\, 6 rue Jacques Cazotte\, Fort
 -de-France\, Martinique\, 97200\, Martinique\, Martinique
GEO:14.605426;-61.066043
X-APPLE-STRUCTURED-LOCATION;VALUE=URI;X-ADDRESS=6 rue Jacques Cazotte\, For
 t-de-France\, Martinique\, 97200\, Martinique\, Martinique;X-APPLE-RADIUS=
 100;X-TITLE=Tropiques Atrium - scène nationale:geo:14.605426,-61.066043
END:VEVENT
BEGIN:VTIMEZONE
TZID:America/Martinique
X-LIC-LOCATION:America/Martinique
BEGIN:STANDARD
DTSTART:20250507T190000
TZOFFSETFROM:-0400
TZOFFSETTO:-0400
TZNAME:AST
END:STANDARD
END:VTIMEZONE
END:VCALENDAR