BEGIN:VCALENDAR
VERSION:2.0
PRODID:-//wp-events-plugin.com//7.2.3.1//EN
TZID:Europe/Paris
X-WR-TIMEZONE:Europe/Paris
BEGIN:VEVENT
UID:2388@bananierbleu.fr
DTSTART;TZID=Europe/Paris:20170930T200000
DTEND;TZID=Europe/Paris:20170930T200000
DTSTAMP:20170929T120659Z
URL:https://bananierbleu.fr/concerts-test/franck-nicolas-4/
SUMMARY:Franck Nicolas - Brasserie Simon - 30 Sep 17 20:00
DESCRIPTION:
ATTACH;FMTTYPE=image/jpeg:https://bananierbleu.fr/wp-content/uploads/2017/
 09/FNicolasSimon.jpg
CATEGORIES:Concerts en France
LOCATION:Brasserie Simon\, 465 avenue de l'Aube Rouge\, Castelnau le Lez\, 
 34170\, France
GEO:43.63753029999999;3.927579700000024
X-APPLE-STRUCTURED-LOCATION;VALUE=URI;X-ADDRESS=465 avenue de l'Aube Rouge\
 , Castelnau le Lez\, 34170\, France;X-APPLE-RADIUS=100;X-TITLE=Brasserie S
 imon:geo:43.63753029999999,3.927579700000024
END:VEVENT
BEGIN:VTIMEZONE
TZID:Europe/Paris
X-LIC-LOCATION:Europe/Paris
BEGIN:DAYLIGHT
DTSTART:20170326T030000
TZOFFSETFROM:+0100
TZOFFSETTO:+0200
TZNAME:CEST
END:DAYLIGHT
END:VTIMEZONE
END:VCALENDAR