BEGIN:VCALENDAR
VERSION:2.0
PRODID:-//wp-events-plugin.com//7.2.3.1//EN
TZID:Europe/Paris
X-WR-TIMEZONE:Europe/Paris
BEGIN:VEVENT
UID:3858@bananierbleu.fr
DTSTART;TZID=Europe/Paris:20241129T193000
DTEND;TZID=Europe/Paris:20241129T193000
DTSTAMP:20241126T091744Z
URL:https://bananierbleu.fr/concerts-test/franck-nicolas-hugo-lippi-et-nic
 ola-sabato-trio/
SUMMARY:Franck Nicolas Hugo Lippi et Nicola Sabato Trio - La Passerelle - 2
 9 Nov 24 19:30
DESCRIPTION:Rencontrez le trio incomparable de Franck Nicolas\, Hugo Lippi 
 et Nicola Sabato à Sète. Franck Nicolas\, trompettiste « coquillagiste 
 »\, explore de nouveaux horizons jazzistiques avec une créativité sans 
 limites. Accompagné de Hugo Lippi\, guitariste lauréat du prix Django Re
 inhardt 2019\, et de Nicola Sabato\, contrebassiste au swing majestueux\, 
 ce trio vous transportera dans un univers aquatique et spatial unique. Ass
 istez à une performance musicale d’une élégance solaire futuriste\, o
 ù chaque note résonnera en vous. Ne manquez pas cette expérience sensor
 ielle exceptionnelle à Sète.\n\nLes tarifs pour cet événement sont les
  suivants :\n– Plein tarif : 10€\n– Tarif réduit : 5€ – 7€
ATTACH;FMTTYPE=image/jpeg:https://bananierbleu.fr/wp-content/uploads/2024/
 11/NicolasLippiSabato.webp
CATEGORIES:Concerts en France
LOCATION:La Passerelle\, 503 Boulevard Pierre Mendès France\, Sète\, Occi
 tanie\, 34200\, Occitanie\, France
X-APPLE-STRUCTURED-LOCATION;VALUE=URI;X-ADDRESS=503 Boulevard Pierre Mendè
 s France\, Sète\, Occitanie\, 34200\, Occitanie\, France;X-APPLE-RADIUS=1
 00;X-TITLE=La Passerelle:geo:0,0
END:VEVENT
BEGIN:VTIMEZONE
TZID:Europe/Paris
X-LIC-LOCATION:Europe/Paris
BEGIN:STANDARD
DTSTART:20241027T020000
TZOFFSETFROM:+0200
TZOFFSETTO:+0100
TZNAME:CET
END:STANDARD
END:VTIMEZONE
END:VCALENDAR