BEGIN:VCALENDAR
VERSION:2.0
PRODID:-//wp-events-plugin.com//7.2.3.1//EN
TZID:Europe/Paris
X-WR-TIMEZONE:Europe/Paris
BEGIN:VEVENT
UID:3128@bananierbleu.fr
DTSTART;TZID=America/Martinique:20200229T150000
DTEND;TZID=America/Martinique:20200229T150000
DTSTAMP:20200225T130649Z
URL:https://bananierbleu.fr/concerts-test/franck-nicolas-jazz-ka-philosoph
 y-13/
SUMMARY:Franck Nicolas & Jazz Ka Philosophy - Jazz à la Pointe - 29 Fév 2
 0 15:00
DESCRIPTION:Jazz à la Pointe présente "Franck Nicolas - Jazz ka philosoph
 y"\n\nFranck Nicolas\, trompettiste et magicien des coquillages\, est à l
 ’origine d’un nouveau style de jazz : le JAZZ-KA\, savant mélange de 
 JAZZ et de tambour traditionnel Guadeloupéen...\nDepuis la naissance de c
 e courant musical à NEW YORK en 2002\, le trompettiste a enchaîné les a
 lbums et les tournées pour promouvoir cette musique savante caribéenne. 
 La création du concept JAZZ-KA- PHILOSOPHY a été l’occasion de multip
 lier les expériences artistiques avec Randy Weston\, Liz Mc Comb\, Solang
 e\, Beyoncé\, Rachel Ferrel\, Alex Blake\, Lonnie Plaxico\, Alain Jean Ma
 rie\, Nelson Veras\, Magic Malik et bien d’autres...
ATTACH;FMTTYPE=image/jpeg:https://bananierbleu.fr/wp-content/uploads/2020/
 02/87055254_2456939314556902_422661770184753152_o.jpg
CATEGORIES:Concerts en Martinique
LOCATION:Jazz à la Pointe\, Plage de la Pointe Faula\, Le Vauclin\, Martin
 ique\, Martinique\, Martinique
GEO:14.5416994;-60.82886480000002
X-APPLE-STRUCTURED-LOCATION;VALUE=URI;X-ADDRESS=Plage de la Pointe Faula\, 
 Le Vauclin\, Martinique\, Martinique\, Martinique;X-APPLE-RADIUS=100;X-TIT
 LE=Jazz à la Pointe:geo:14.5416994,-60.82886480000002
END:VEVENT
BEGIN:VTIMEZONE
TZID:America/Martinique
X-LIC-LOCATION:America/Martinique
BEGIN:STANDARD
DTSTART:20190301T150000
TZOFFSETFROM:-0400
TZOFFSETTO:-0400
TZNAME:AST
END:STANDARD
END:VTIMEZONE
END:VCALENDAR