BEGIN:VCALENDAR
VERSION:2.0
PRODID:-//wp-events-plugin.com//7.2.3.1//EN
TZID:Europe/Paris
X-WR-TIMEZONE:Europe/Paris
BEGIN:VEVENT
UID:1513@bananierbleu.fr
DTSTART;TZID=Europe/Paris:20151013T223000
DTEND;TZID=Europe/Paris:20151013T223000
DTSTAMP:20150923T200018Z
URL:https://bananierbleu.fr/concerts-test/franck-nicolas-jazz-ka-philosoph
 y-9-trio-soleil-showcase-jazz-sur-seine/
SUMMARY:Franck Nicolas Jazz Ka Philosophy 9 "Trio Soleil" - Showcase Jazz s
 ur Seine - le Baiser Salé - 13 Oct 15 22:30
DESCRIPTION:Un trio d’exception avec le créateur du jazz-ka Franck Nicol
 as\, le génie brésilien de la guitare Nelson Veras\, et le grand maître
  des rythmes et du groove made in Guadeloupe Sonny Troupé.\n\nC’est la 
 nouvelle musique jazz qui vient directement des Antilles. L’album « TR
 IO Soleil »\, qui n’a eu que des éloges dans la presse nationale\, s
 ’accompagne d’une méthode révolutionnaire\, sur les gammes guadeloup
 éennes. Selon Franck Bergerot de Jazz Magazine : « une fois la 1ère pl
 age lancée\, sous le titre de Gamme Hibiscus\, tout dogmatisme disparaît
 . Parce-que la sonorité de bugle est d’une douceur infinie\, parce-que 
 le phrasé est d’une décontraction toute dansante sur des mélodies qui
  ont la vertu apaisante des berceuses. L’intelligence rythmico-mélodiqu
 e de Nelson Véras\, qui peut souvent paraître intimidante\, se fait tend
 re et amicale et la vivacité rythmique de Sonny Troupé est dosée comme 
 un parfait tour de moulin à épices. »
CATEGORIES:Concerts en France
LOCATION:le Baiser Salé\, 58\, rue des Lombards\, Paris\, Île de France\,
  75001\, IleDeFrance\, France
GEO:48.8598;2.34791
X-APPLE-STRUCTURED-LOCATION;VALUE=URI;X-ADDRESS=58\, rue des Lombards\, Par
 is\, Île de France\, 75001\, IleDeFrance\, France;X-APPLE-RADIUS=100;X-TI
 TLE=le Baiser Salé:geo:48.8598,2.34791
END:VEVENT
BEGIN:VTIMEZONE
TZID:Europe/Paris
X-LIC-LOCATION:Europe/Paris
BEGIN:DAYLIGHT
DTSTART:20150329T030000
TZOFFSETFROM:+0100
TZOFFSETTO:+0200
TZNAME:CEST
END:DAYLIGHT
END:VTIMEZONE
END:VCALENDAR