BEGIN:VCALENDAR
VERSION:2.0
PRODID:-//wp-events-plugin.com//7.2.3.1//EN
TZID:Europe/Paris
X-WR-TIMEZONE:Europe/Paris
BEGIN:VEVENT
UID:1108@bananierbleu.fr
DTSTART;TZID=Europe/Paris:20141128T200000
DTEND;TZID=Europe/Paris:20141128T200000
DTSTAMP:20141128T084708Z
URL:https://bananierbleu.fr/concerts-test/franck-nicolas-manioc-poesie/
SUMMARY:Franck Nicolas & Manioc Poésie - la Petite Scène - 28 Nov 14 20:0
 0
DESCRIPTION:Ce soir petit passage à Montpellier avant de repartir en tourn
 ée ... mon groupe de Jazz Ka : MANIOC Poésie à la "petite scène"
CATEGORIES:Concerts en France
LOCATION:la Petite Scène\, 6 rue de la Fontaine\, Montpellier\, Occitanie\
 , 34000\, Occitanie\, France
GEO:43.6076302;3.875891000000024
X-APPLE-STRUCTURED-LOCATION;VALUE=URI;X-ADDRESS=6 rue de la Fontaine\, Mont
 pellier\, Occitanie\, 34000\, Occitanie\, France;X-APPLE-RADIUS=100;X-TITL
 E=la Petite Scène:geo:43.6076302,3.875891000000024
END:VEVENT
BEGIN:VTIMEZONE
TZID:Europe/Paris
X-LIC-LOCATION:Europe/Paris
BEGIN:STANDARD
DTSTART:20141026T020000
TZOFFSETFROM:+0200
TZOFFSETTO:+0100
TZNAME:CET
END:STANDARD
END:VTIMEZONE
END:VCALENDAR