BEGIN:VCALENDAR
VERSION:2.0
PRODID:-//wp-events-plugin.com//7.2.3.1//EN
TZID:Europe/Paris
X-WR-TIMEZONE:Europe/Paris
BEGIN:VEVENT
UID:1515@bananierbleu.fr
DTSTART;TZID=Europe/Paris:20151021T213000
DTEND;TZID=Europe/Paris:20151021T213000
DTSTAMP:20150923T200107Z
URL:https://bananierbleu.fr/concerts-test/franck-nicolas-michael-jackson-i
 n-ka-2/
SUMMARY:Franck Nicolas « Michael Jackson In Ka » - le Baiser Salé - 21 O
 ct 15 21:30
DESCRIPTION:Dans le cadre du « Festival Jazz sur Seine » #4\n\n\nFranck 
 Nicolas trompette/coquillages\, Gregory Privat clavier/ basse moog\, Manu 
 Codjia guitare\, Arnaud Dolmen batterie/ka                
                                       
                                       
              \n\nFranck Nicolas\, trompettiste et compositeur 
 à l’appétit insatiable est le créateur du Jazz Ka (alchimie parfaite 
 alliant le jazz et le tambour traditionnel Guadeloupéen). Toujours en qu
 êtes d’idées nouvelles\, il est tel un savant fou\, qui explore des se
 ntiers inconnus. Pour Franck\, la musique est un immense laboratoire d’e
 xpériences originales\, où tout est à faire et à inventer. Avec ce pro
 jet il retranscrit la musique de Michael Jackson en Jazz-ka ce qui augure 
 de belles surprises pour les auditeurs et amateurs de sensations fortes…
  A ne louper sous aucun prétexte!
ATTACH;FMTTYPE=image/jpeg:https://bananierbleu.fr/wp-content/uploads/2015/
 09/Francky-Jazz-Ka.jpg
CATEGORIES:Concerts en France
LOCATION:le Baiser Salé\, 58\, rue des Lombards\, Paris\, Île de France\,
  75001\, IleDeFrance\, France
GEO:48.8598;2.34791
X-APPLE-STRUCTURED-LOCATION;VALUE=URI;X-ADDRESS=58\, rue des Lombards\, Par
 is\, Île de France\, 75001\, IleDeFrance\, France;X-APPLE-RADIUS=100;X-TI
 TLE=le Baiser Salé:geo:48.8598,2.34791
END:VEVENT
BEGIN:VTIMEZONE
TZID:Europe/Paris
X-LIC-LOCATION:Europe/Paris
BEGIN:DAYLIGHT
DTSTART:20150329T030000
TZOFFSETFROM:+0100
TZOFFSETTO:+0200
TZNAME:CEST
END:DAYLIGHT
END:VTIMEZONE
END:VCALENDAR