BEGIN:VCALENDAR
VERSION:2.0
PRODID:-//wp-events-plugin.com//7.2.3.1//EN
TZID:Europe/Paris
X-WR-TIMEZONE:Europe/Paris
BEGIN:VEVENT
UID:2183@bananierbleu.fr
DTSTART;TZID=Europe/Paris:20170406T203000
DTEND;TZID=Europe/Paris:20170406T203000
DTSTAMP:20170405T104144Z
URL:https://bananierbleu.fr/concerts-test/francois-denyze-2/
SUMMARY:François Denyze - La Créole Jazz Club - 6 Avr 17 20:30
DESCRIPTION:Retrouvez le trio de François Denyze pour un concert où compo
 sitions originales se mêlent aux standards de jazz\, de bossa et de blues
 . Une formule acoustique qui conviendra bien aux amateurs d'ambiance intim
 iste.\n\nFrançois Denyze (guitare\, chant)\nÉric Choukroun (basse)\nSylv
 ain Joseph (sax)
ATTACH;FMTTYPE=image/jpeg:https://bananierbleu.fr/wp-content/uploads/2017/
 04/17757270_1389548337775063_6601439775184120407_n.jpg
CATEGORIES:Concerts en Guadeloupe
LOCATION:La Créole Jazz Club\, Pointe de la Verdure\, Le Gosier\, Guadelou
 pe\, 97190\, Guadeloupe\, Guadeloupe
GEO:16.206832;-61.50359980000002
X-APPLE-STRUCTURED-LOCATION;VALUE=URI;X-ADDRESS=Pointe de la Verdure\, Le G
 osier\, Guadeloupe\, 97190\, Guadeloupe\, Guadeloupe;X-APPLE-RADIUS=100;X-
 TITLE=La Créole Jazz Club:geo:16.206832,-61.50359980000002
END:VEVENT
BEGIN:VTIMEZONE
TZID:Europe/Paris
X-LIC-LOCATION:Europe/Paris
BEGIN:DAYLIGHT
DTSTART:20170326T030000
TZOFFSETFROM:+0100
TZOFFSETTO:+0200
TZNAME:CEST
END:DAYLIGHT
END:VTIMEZONE
END:VCALENDAR