BEGIN:VCALENDAR
VERSION:2.0
PRODID:-//wp-events-plugin.com//7.2.3.1//EN
TZID:Europe/Paris
X-WR-TIMEZONE:Europe/Paris
BEGIN:VEVENT
UID:253@bananierbleu.fr
DTSTART;TZID=Europe/Paris:20120710T210000
DTEND;TZID=Europe/Paris:20120710T230000
DTSTAMP:20120621T181214Z
URL:https://bananierbleu.fr/concerts-test/friends-meet-gene-perla-2/
SUMMARY:Friends meet Gene Perla - 38Riv' - Jazz Club & Bar - 10 Juil 12 21:
 00
DESCRIPTION:L'an dernier\, nous avions eu le privilège de jouer à Paris a
 vec le contrebassiste américain Gene Perla \n\nNina Simone\, Dizzy Gilles
 pie\, Miles Davis\, Sonny Rollins\, Sarah Vaughan\, Frank Sinatra\, Herbie
  Hancock -- est une liste non exhaustive de musiciens de jazz avec lesquel
 s il a joué et/ou enregistré.\n\nGene est de retour à Paris en juillet 
 !\n\nViktorija Ge?yt? : voix\nJulien Coriatt : piano\nGene Perla : contreb
 asse\nJohn Betsch : batterie
CATEGORIES:Concerts en France
LOCATION:38Riv' - Jazz Club & Bar\, 38\, rue de Rivoli\, Paris\, Île de Fr
 ance\, 75004\, IleDeFrance\, France
GEO:48.856461;2.356461
X-APPLE-STRUCTURED-LOCATION;VALUE=URI;X-ADDRESS=38\, rue de Rivoli\, Paris\
 , Île de France\, 75004\, IleDeFrance\, France;X-APPLE-RADIUS=100;X-TITLE
 =38Riv' - Jazz Club & Bar:geo:48.856461,2.356461
END:VEVENT
BEGIN:VTIMEZONE
TZID:Europe/Paris
X-LIC-LOCATION:Europe/Paris
BEGIN:DAYLIGHT
DTSTART:20120325T030000
TZOFFSETFROM:+0100
TZOFFSETTO:+0200
TZNAME:CEST
END:DAYLIGHT
END:VTIMEZONE
END:VCALENDAR