BEGIN:VCALENDAR
VERSION:2.0
PRODID:-//wp-events-plugin.com//7.2.3.1//EN
TZID:Europe/Paris
X-WR-TIMEZONE:Europe/Paris
BEGIN:VEVENT
UID:252@bananierbleu.fr
DTSTART;TZID=Europe/Paris:20120706T203000
DTEND;TZID=Europe/Paris:20120706T230000
DTSTAMP:20120621T181014Z
URL:https://bananierbleu.fr/concerts-test/friends-meet-gene-perla/
SUMMARY:Friends meet Gene Perla - le Caveau des Légendes - 6 Juil 12 20:30
DESCRIPTION:L'an dernier\, nous avions eu le privilège de jouer à Paris a
 vec le contrebassiste américain Gene Perla \n\nNina Simone\, Dizzy Gilles
 pie\, Miles Davis\, Sonny Rollins\, Sarah Vaughan\, Frank Sinatra\, Herbie
  Hancock -- est une liste non exhaustive de musiciens de jazz avec lesquel
 s il a joué et/ou enregistré.\n\nGene est de retour à Paris en juillet 
 !\n\nViktorija Ge?yt? : voix\nJulien Coriatt : piano\nGene Perla : contreb
 asse\nJohn Betsch : batterie
CATEGORIES:Concerts en France
LOCATION:le Caveau des Légendes\, 6\, rue Jacob\, Paris\, 75006\, France
GEO:48.8547788;2.3361869999999954
X-APPLE-STRUCTURED-LOCATION;VALUE=URI;X-ADDRESS=6\, rue Jacob\, Paris\, 750
 06\, France;X-APPLE-RADIUS=100;X-TITLE=le Caveau des Légendes:geo:48.8547
 788,2.3361869999999954
END:VEVENT
BEGIN:VTIMEZONE
TZID:Europe/Paris
X-LIC-LOCATION:Europe/Paris
BEGIN:DAYLIGHT
DTSTART:20120325T030000
TZOFFSETFROM:+0100
TZOFFSETTO:+0200
TZNAME:CEST
END:DAYLIGHT
END:VTIMEZONE
END:VCALENDAR