BEGIN:VCALENDAR
VERSION:2.0
PRODID:-//wp-events-plugin.com//7.2.3.1//EN
TZID:Europe/Paris
X-WR-TIMEZONE:Europe/Paris
BEGIN:VEVENT
UID:656@bananierbleu.fr
DTSTART;TZID=Europe/Paris:20131123T193000
DTEND;TZID=Europe/Paris:20131123T193000
DTSTAMP:20131024T195228Z
URL:https://bananierbleu.fr/concerts-test/gaby-diop-project-2/
SUMMARY:Gaby Diop project - le Baiser Salé - 23 Nov 13 19:30
DESCRIPTION:"Jazz Caribéen"\nGABY DIOP PROJECT\nGaby Diop lead/voix\, Thom
 as Bellon basse\, Fabien Hily percus\,\nTsioharana Rajaona batterie\, Mahe
 r Beauroy piano\,\nD’origine antillaise et sénégalaise\, Gaby DIOP pr
 ésente son album à venir: "Limyè mwen". Accompagnée de sa guitare\, c'
 est tout naturellement qu’elle compose et chante dans sa langue maternel
 le : le créole. L’envie de défendre sa propre musique\, celle qui fera
  parler son cœur\, est plus forte que tout. Ses mélodies suaves se mêle
 nt à des couleurs harmoniques jazzy. Elle parle de son île\, la Martiniq
 ue\, de tranches de vie\, des expériences qu’elle a pu avoir mais surto
 ut d’amour\, celui qui guide nos vies et nous fait avancer. Une belle re
 ncontre\, un incontournable rendez-vous! 
CATEGORIES:Concerts en France
LOCATION:le Baiser Salé\, 58\, rue des Lombards\, Paris\, 75001\, IleDeFra
 nce\, France
GEO:48.859772;2.347917
X-APPLE-STRUCTURED-LOCATION;VALUE=URI;X-ADDRESS=58\, rue des Lombards\, Par
 is\, 75001\, IleDeFrance\, France;X-APPLE-RADIUS=100;X-TITLE=le Baiser Sal
 é:geo:48.859772,2.347917
END:VEVENT
BEGIN:VTIMEZONE
TZID:Europe/Paris
X-LIC-LOCATION:Europe/Paris
BEGIN:STANDARD
DTSTART:20131027T020000
TZOFFSETFROM:+0200
TZOFFSETTO:+0100
TZNAME:CET
END:STANDARD
END:VTIMEZONE
END:VCALENDAR