BEGIN:VCALENDAR
VERSION:2.0
PRODID:-//wp-events-plugin.com//7.2.3.1//EN
TZID:Europe/Paris
X-WR-TIMEZONE:Europe/Paris
BEGIN:VEVENT
UID:606@bananierbleu.fr
DTSTART;TZID=Europe/Paris:20130921T193000
DTEND;TZID=Europe/Paris:20130921T193000
DTSTAMP:20130907T094018Z
URL:https://bananierbleu.fr/concerts-test/gaby-diop-project/
SUMMARY:Gaby Diop project - le Baiser Salé - 21 Sep 13 19:30
DESCRIPTION:GABY DIOP PROJECT\nGaby Diop voix/compos\, Tsioharana Rajaona b
 asse\,\nMaher Beauroy piano\, Fabien Hily percus.\nD’origine antillaise 
 et sénégalaise\, Gaby DIOP présente son album à venir: "Limyè mwen". 
 Accompagnée de sa guitare\, c'est tout naturellement qu’elle compose et
  chante dans sa langue maternelle : le créole. L’envie de défendre sa 
 propre musique\, celle qui fera parler son cœur\, est plus forte que tout
 . Ses mélodies suaves se mêlent à des couleurs harmoniques jazzy. Elle 
 parle de son île\, la Martinique\, de tranches de vie\, des expériences 
 qu’elle a pu avoir mais surtout d’amour\, celui qui guide nos vies et 
 nous fait avancer. Une belle rencontre\, un incontournable rendez-vous! 
CATEGORIES:Concerts en France
LOCATION:le Baiser Salé\, 58\, rue des Lombards\, Paris\, Île de France\,
  75001\, IleDeFrance\, France
GEO:48.8598;2.34791
X-APPLE-STRUCTURED-LOCATION;VALUE=URI;X-ADDRESS=58\, rue des Lombards\, Par
 is\, Île de France\, 75001\, IleDeFrance\, France;X-APPLE-RADIUS=100;X-TI
 TLE=le Baiser Salé:geo:48.8598,2.34791
END:VEVENT
BEGIN:VTIMEZONE
TZID:Europe/Paris
X-LIC-LOCATION:Europe/Paris
BEGIN:DAYLIGHT
DTSTART:20130331T030000
TZOFFSETFROM:+0100
TZOFFSETTO:+0200
TZNAME:CEST
END:DAYLIGHT
END:VTIMEZONE
END:VCALENDAR