BEGIN:VCALENDAR
VERSION:2.0
PRODID:-//wp-events-plugin.com//7.2.3.1//EN
TZID:Europe/Paris
X-WR-TIMEZONE:Europe/Paris
BEGIN:VEVENT
UID:3803@bananierbleu.fr
DTSTART;TZID=Europe/Paris:20240530T220000
DTEND;TZID=Europe/Paris:20240530T220000
DTSTAMP:20240331T170253Z
URL:https://bananierbleu.fr/concerts-test/georges-granville-michel-alibo-a
 rnaud-dolmen-invitent-tony-chasseur-perspectives-2/
SUMMARY:Georges Granville / Michel Alibo / Arnaud Dolmen Invitent Tony Chas
 seur - "Perspectives" - le Baiser Salé - 30 Mai 24 22:00
DESCRIPTION:\n\nGEORGES GRANVILLE piano\nMICHEL ALIBO cbasse\nARNAUD DOLMEN
  batterie\nTONY CHASSEUR voix\n\n\n« Un trio jazz qui rend ses vraies cou
 leurs au jazz caribéen » - Télérama &amp\; Télérama sortir\n\nGeorge
 s Granville\, pianiste et claviériste avec plus de vingt ans d'expérienc
 e sort en mai 2023 PERSPECTIVES\, son premier album qui reçoit un accueil
  plus qu’enthousiaste ! Album de jazz\, aux accents rythmiques et harmon
 iques d'une finesse remarquable\, il possède toutes les qualités des mei
 lleures productions modernes. Les compositions originales de Georges Granv
 ille sont influencées par ses propres expériences et par les musiciens d
 e jazz qu'il affectionne particulièrement\, tels que Lyle Mays\, Chick Co
 rea et Keith Jarrett...\n\nLorsque le pianiste fait appel a? Arnaud Dolmen
  (Révélation des Victores du Jazz 2022) et a? Michel Alibo (membre fonda
 teur de SIXUN) pour un premier concert\, l'alchimie est telle qu'elle donn
 e lieu a? la naissance de ce trio acoustique. En plus de leurs racines cul
 turelles communes\, ces trois musiciens partagent une ouverture d'esprit q
 u'ils mettent au service de leur créativité?.\n\nMichel et Arnaud\, dont
  le talent n'est plus a? démontrer\, ont su apporter le langage appropri
 é aux compositions de Georges\, leur permettant d'exprimer leur plein pot
 entiel.\n
ATTACH;FMTTYPE=image/jpeg:https://bananierbleu.fr/wp-content/uploads/2024/
 03/Granville.jpg
CATEGORIES:Concerts en France
LOCATION:le Baiser Salé\, 58\, rue des Lombards\, Paris\, Île de France\,
  75001\, IleDeFrance\, France
GEO:48.8598;2.34791
X-APPLE-STRUCTURED-LOCATION;VALUE=URI;X-ADDRESS=58\, rue des Lombards\, Par
 is\, Île de France\, 75001\, IleDeFrance\, France;X-APPLE-RADIUS=100;X-TI
 TLE=le Baiser Salé:geo:48.8598,2.34791
END:VEVENT
BEGIN:VTIMEZONE
TZID:Europe/Paris
X-LIC-LOCATION:Europe/Paris
BEGIN:DAYLIGHT
DTSTART:20240331T030000
TZOFFSETFROM:+0100
TZOFFSETTO:+0200
TZNAME:CEST
END:DAYLIGHT
END:VTIMEZONE
END:VCALENDAR