BEGIN:VCALENDAR
VERSION:2.0
PRODID:-//wp-events-plugin.com//7.2.3.1//EN
TZID:Europe/Paris
X-WR-TIMEZONE:Europe/Paris
BEGIN:VEVENT
UID:2358@bananierbleu.fr
DTSTART;TZID=Europe/Paris:20170901T203000
DTEND;TZID=Europe/Paris:20170901T203000
DTSTAMP:20170829T202203Z
URL:https://bananierbleu.fr/concerts-test/gilbert-coco-2/
SUMMARY:Gilbert Coco - La Créole Jazz Club - 1 Sep 17 20:30
DESCRIPTION:La Créole Jazz Club accueille Gilbert Coco. Le guitariste prop
 osera un répertoire original\, autour de ses compositions et de ses adapt
 ations de standards internationaux. Une excellente occasion d’apprécier
  son jeu caractéristique\, élaboré sur la technique des cordes à vide.
 \n\nGilbert Coco (guitare)\nJean-Claude Damprobe (basse)\nRaymond Grégo (
 batterie)
ATTACH;FMTTYPE=image/jpeg:https://bananierbleu.fr/wp-content/uploads/2017/
 08/21192991_1539227616140467_3082983979968843411_n.jpg
CATEGORIES:Concerts en Guadeloupe
LOCATION:La Créole Jazz Club\, Pointe de la Verdure\, Le Gosier\, Guadelou
 pe\, 97190\, Guadeloupe\, Guadeloupe
GEO:16.206832;-61.50359980000002
X-APPLE-STRUCTURED-LOCATION;VALUE=URI;X-ADDRESS=Pointe de la Verdure\, Le G
 osier\, Guadeloupe\, 97190\, Guadeloupe\, Guadeloupe;X-APPLE-RADIUS=100;X-
 TITLE=La Créole Jazz Club:geo:16.206832,-61.50359980000002
END:VEVENT
BEGIN:VTIMEZONE
TZID:Europe/Paris
X-LIC-LOCATION:Europe/Paris
BEGIN:DAYLIGHT
DTSTART:20170326T030000
TZOFFSETFROM:+0100
TZOFFSETTO:+0200
TZNAME:CEST
END:DAYLIGHT
END:VTIMEZONE
END:VCALENDAR