BEGIN:VCALENDAR
VERSION:2.0
PRODID:-//wp-events-plugin.com//7.2.3.1//EN
TZID:Europe/Paris
X-WR-TIMEZONE:Europe/Paris
BEGIN:VEVENT
UID:3089@bananierbleu.fr
DTSTART;TZID=America/Guadeloupe:20200125T203000
DTEND;TZID=America/Guadeloupe:20200125T203000
DTSTAMP:20200114T085803Z
URL:https://bananierbleu.fr/concerts-test/gregory-louis-friends/
SUMMARY:Grégory Louis & Friends - New Ti'Paris - 25 Jan 20 20:30
DESCRIPTION:Concert Unique autour de Gregory LOUIS \, de sa musique et de s
 es influences entre Soul Jazz musique Caribéenne et Gospel.\nAccompagné 
 de Regis THERESE et Audray CLODION\, il vous concocte un voyage aux multip
 les facettes\, entre ciel et terre\, entre force et douceur.\n\nRdv le 25 
 pour partager avec lui cette expérience musicale.\nEntrée Gratuite\, Ré
 servation Conseillée
ATTACH;FMTTYPE=image/jpeg:https://bananierbleu.fr/wp-content/uploads/2020/
 01/82969047_10157274471418853_279879288986009600_n.jpg
CATEGORIES:Concerts en Guadeloupe
LOCATION:New Ti'Paris\, Perinet\, Le Gosier\, Guadeloupe\, 97190\, Guadelou
 pe\, Guadeloupe
GEO:16.2077962;-61.48492470000002
X-APPLE-STRUCTURED-LOCATION;VALUE=URI;X-ADDRESS=Perinet\, Le Gosier\, Guade
 loupe\, 97190\, Guadeloupe\, Guadeloupe;X-APPLE-RADIUS=100;X-TITLE=New Ti'
 Paris:geo:16.2077962,-61.48492470000002
END:VEVENT
BEGIN:VTIMEZONE
TZID:America/Guadeloupe
X-LIC-LOCATION:America/Guadeloupe
BEGIN:STANDARD
DTSTART:20190125T203000
TZOFFSETFROM:-0400
TZOFFSETTO:-0400
TZNAME:AST
END:STANDARD
END:VTIMEZONE
END:VCALENDAR