BEGIN:VCALENDAR
VERSION:2.0
PRODID:-//wp-events-plugin.com//7.2.3.1//EN
TZID:Europe/Paris
X-WR-TIMEZONE:Europe/Paris
BEGIN:VEVENT
UID:3890@bananierbleu.fr
DTSTART;TZID=Europe/Paris:20250418T203000
DTEND;TZID=Europe/Paris:20250418T203000
DTSTAMP:20250121T144033Z
URL:https://bananierbleu.fr/concerts-test/gregory-privat-15/
SUMMARY:Grégory Privat - New Morning - 18 Avr 25 20:30
DESCRIPTION:Grégory Privat est sans conteste le meilleur de sa génératio
 n !\n\nLauréat du Prix DJANGO REINHARDT\, Grégory Privat présentera son
  nouvel album « Phoenix ».\nSalué par la critique comme un disque majeu
 r entre Jazz et sonorités créoles\, ce concert est pour vous?!
ATTACH;FMTTYPE=image/jpeg:https://bananierbleu.fr/wp-content/uploads/2025/
 01/Gregory_Privat.jpg
CATEGORIES:Concerts en France
LOCATION:New Morning\, 7-9 rue des Petites Ecuries\, Paris\, Île de France
 \, 75010\, IleDeFrance\, France
GEO:48.8732;2.35323
X-APPLE-STRUCTURED-LOCATION;VALUE=URI;X-ADDRESS=7-9 rue des Petites Ecuries
 \, Paris\, Île de France\, 75010\, IleDeFrance\, France;X-APPLE-RADIUS=10
 0;X-TITLE=New Morning:geo:48.8732,2.35323
END:VEVENT
BEGIN:VTIMEZONE
TZID:Europe/Paris
X-LIC-LOCATION:Europe/Paris
BEGIN:DAYLIGHT
DTSTART:20250330T030000
TZOFFSETFROM:+0100
TZOFFSETTO:+0200
TZNAME:CEST
END:DAYLIGHT
END:VTIMEZONE
END:VCALENDAR