BEGIN:VCALENDAR
VERSION:2.0
PRODID:-//wp-events-plugin.com//7.2.3.1//EN
TZID:Europe/Paris
X-WR-TIMEZONE:Europe/Paris
BEGIN:VEVENT
UID:2357@bananierbleu.fr
DTSTART;TZID=Europe/Paris:20170905T203000
DTEND;TZID=Europe/Paris:20170905T203000
DTSTAMP:20170829T202004Z
URL:https://bananierbleu.fr/concerts-test/gregory-privat-6/
SUMMARY:Grégory Privat - La Créole Jazz Club - 5 Sep 17 20:30
DESCRIPTION:La Créole Jazz Club vous invite au concert exclusif de Grégor
 y Privat\, pour une performance en piano solo. Réservation obligatoire pa
 r mail à l'adresse evenements@creolebeach.com.\n\nEn partenariat avec la 
 Boutique Point Or (Bas-du-Fort) et JOHO\, le magazine de la joaillerie et 
 de l'horlogerie de luxe dans les Caraïbes Françaises.
ATTACH;FMTTYPE=image/jpeg:https://bananierbleu.fr/wp-content/uploads/2017/
 08/21150001_1539229019473660_7130114122318129154_n.jpg
CATEGORIES:Concerts en Guadeloupe
LOCATION:La Créole Jazz Club\, Pointe de la Verdure\, Le Gosier\, Guadelou
 pe\, 97190\, Guadeloupe\, Guadeloupe
GEO:16.206832;-61.50359980000002
X-APPLE-STRUCTURED-LOCATION;VALUE=URI;X-ADDRESS=Pointe de la Verdure\, Le G
 osier\, Guadeloupe\, 97190\, Guadeloupe\, Guadeloupe;X-APPLE-RADIUS=100;X-
 TITLE=La Créole Jazz Club:geo:16.206832,-61.50359980000002
END:VEVENT
BEGIN:VTIMEZONE
TZID:Europe/Paris
X-LIC-LOCATION:Europe/Paris
BEGIN:DAYLIGHT
DTSTART:20170326T030000
TZOFFSETFROM:+0100
TZOFFSETTO:+0200
TZNAME:CEST
END:DAYLIGHT
END:VTIMEZONE
END:VCALENDAR