BEGIN:VCALENDAR
VERSION:2.0
PRODID:-//wp-events-plugin.com//7.2.3.1//EN
TZID:Europe/Paris
X-WR-TIMEZONE:Europe/Paris
BEGIN:VEVENT
UID:3949@bananierbleu.fr
DTSTART;TZID=Europe/Paris:20250521T221500
DTEND;TZID=Europe/Paris:20250521T221500
DTSTAMP:20250506T080605Z
URL:https://bananierbleu.fr/concerts-test/gregory-privat-au-festival-malgu
 enac/
SUMMARY:Grégory Privat au Festival Malguénac - Festival de Malguénac - 2
 1 Mai 25 22:15
DESCRIPTION:Concert du Grégory Privat Trio au Festival de Malguénac [56]\
 nGrégory Privat | piano\, claviers\, voix\nChris Jennings | contrebasse\n
 Tilo Bertholo | batterie\, SPD-SX\n\nMeilleur pianiste de l’année 2024 
 Jazz Magazine / Jazz News\nPrix Django Reinhardt 2023 de l’Académie du 
 Jazz\nArtiste à Suivre Adami\, 2023\n\nAprès deux solos très intimistes
 \, le pianiste et chanteur martiniquais Grégory Privat revient avec PHOEN
 IX\, un album lumineux qui célèbre le cycle de la vie et le fait de rena
 ître constamment de ses cendres.\nUne métaphore sur l’oiseau de feu qu
 i se veut être la continuité de l’album SOLEY paru en 2020.\nOn retrou
 ve le contrebassiste Chris Jennings et le batteur Tilo Bertholo pour un tr
 io hors du commun\, vers un jazz spirituel entre pop urbaine\, chants cré
 oles\, et musique électronique.\n\nhttps://festival-malguenac.fr/
ATTACH;FMTTYPE=image/jpeg:https://bananierbleu.fr/wp-content/uploads/2025/
 01/Gregory_Privat.jpg
CATEGORIES:Concerts en France
LOCATION:Festival de Malguénac\, Salle Résonance\, Malguénac\, 56\, 5630
 0\, Bretagne\, France
X-APPLE-STRUCTURED-LOCATION;VALUE=URI;X-ADDRESS=Salle Résonance\, Malguén
 ac\, 56\, 56300\, Bretagne\, France;X-APPLE-RADIUS=100;X-TITLE=Festival de
  Malguénac:geo:0,0
END:VEVENT
BEGIN:VTIMEZONE
TZID:Europe/Paris
X-LIC-LOCATION:Europe/Paris
BEGIN:DAYLIGHT
DTSTART:20250330T030000
TZOFFSETFROM:+0100
TZOFFSETTO:+0200
TZNAME:CEST
END:DAYLIGHT
END:VTIMEZONE
END:VCALENDAR