BEGIN:VCALENDAR
VERSION:2.0
PRODID:-//wp-events-plugin.com//7.2.3.1//EN
TZID:Europe/Paris
X-WR-TIMEZONE:Europe/Paris
BEGIN:VEVENT
UID:3673@bananierbleu.fr
DTSTART;TZID=Europe/Paris:20230912T193000
DTEND;TZID=Europe/Paris:20230912T193000
DTSTAMP:20230820T210443Z
URL:https://bananierbleu.fr/concerts-test/gregory-privat-concert-a-la-boug
 ie/
SUMMARY:Gregory PRIVAT Concert à la bougie - Sunside - 12 Sep 23 19:30
DESCRIPTION:Gregory Privat - piano solo\n\n\n\nAprès 5 albums à son nom\,
  Grégory Privat présente son prochain album intitulé « Yonn »\, qui s
 ignifie le chiffre « Un » en créole. En effet\, c’est la première fo
 is que le pianiste Martiniquais proposera un disque «piano solo». Pour c
 et enregistrement de 11 titres enregistrés intégralement à Cologne\, Gr
 égory Privat propose une musique intimiste qui prend ses sources dans la 
 culture Antillaise\, la musique classique et le Jazz. Un voyage contemplat
 if qui mêlera les notes du piano à la voix du musicien car 5 morceaux so
 nt chantés dans le répertoire. Constitué entièrement de compositions o
 riginales\, cet album imaginé et créé pendant la période du confinemen
 t de 2020 sera sous le thème de la méditation et du retour à soi\, comm
 e une confidence pleine de lumière\, de réconfort et d’espoir.\n\n
ATTACH;FMTTYPE=image/jpeg:https://bananierbleu.fr/wp-content/uploads/2023/
 08/GregoryPrivatBougie.png
CATEGORIES:Concerts en France
LOCATION:Sunside\, 60\, rue des Lombards\, Paris\, Île de France\, 75001\,
  IleDeFrance\, France
GEO:48.859937;2.347751
X-APPLE-STRUCTURED-LOCATION;VALUE=URI;X-ADDRESS=60\, rue des Lombards\, Par
 is\, Île de France\, 75001\, IleDeFrance\, France;X-APPLE-RADIUS=100;X-TI
 TLE=Sunside:geo:48.859937,2.347751
END:VEVENT
BEGIN:VTIMEZONE
TZID:Europe/Paris
X-LIC-LOCATION:Europe/Paris
BEGIN:DAYLIGHT
DTSTART:20230326T030000
TZOFFSETFROM:+0100
TZOFFSETTO:+0200
TZNAME:CEST
END:DAYLIGHT
END:VTIMEZONE
END:VCALENDAR