BEGIN:VCALENDAR
VERSION:2.0
PRODID:-//wp-events-plugin.com//7.2.3.1//EN
TZID:Europe/Paris
X-WR-TIMEZONE:Europe/Paris
BEGIN:VEVENT
UID:393@bananierbleu.fr
DTSTART;TZID=Europe/Paris:20130228T213000
DTEND;TZID=Europe/Paris:20130228T230000
DTSTAMP:20130120T132111Z
URL:https://bananierbleu.fr/concerts-test/gregory-privat-sonny-troupe-duo-
 2/
SUMMARY:Grégory Privat & Sonny Troupé duo - le Baiser Salé - 28 Fév 13 
 21:30
DESCRIPTION:Grégory Privat piano\,\nSonny Troupé batterie/tambour Ka.\nC
 ’est très simplement que ce jeune artiste de 27 ans\, fils du pianiste 
 de Malavoi* présente son concept en collaboration avec Sonny Troupé fils
  également…Tout est dit dans le titre\, 2 instruments guident le concer
 t: le piano et le Ka**\, rien d’autre! Si le gwoka avait déjà connu d
 ’heureux mariages avec le jazz\, notamment avec Mr Schwarz-Bart\, ce nou
 veau regard jazz habillé des courbes sonores antillaises est un vrai dél
 ice pour les oreilles et l’esprit. Un projet inédit. Une course-poursui
 te. Un échange sans mots. La langue du ka vient se lier à celle du piano
 . Ils se comprennent\, progressent à la même cadence\, riment avec la m
 ême allure. On ne sait qui du piano\, qui du ka suit l’autre. Un instan
 t\, je me retrouve plonger dans l’univers du léwoz***\, le piano exulte
  ses notes les plus claires et arrache au Ka ses notes les plus graves. To
 us deux se répondent\, hurlent en accord. Le piano et le Ka s’emboîten
 t\, se superposent pour former un tout indivisible. Tout se joue avec eux\
 , au dernier morceau on se retrouve dans un tryptique des plus surprenants
 : un mélange de Jazz\, Biguine\, Hip Hop relevé par les sonorités du Gw
 oka. Une cacophonie intérieure\, on ne sait à quel organe se raccrocher.
  Une éjaculation des styles ! 
CATEGORIES:Concerts en France
LOCATION:le Baiser Salé\, 58\, rue des Lombards\, Paris\, Île de France\,
  75001\, IleDeFrance\, France
GEO:48.8598;2.34791
X-APPLE-STRUCTURED-LOCATION;VALUE=URI;X-ADDRESS=58\, rue des Lombards\, Par
 is\, Île de France\, 75001\, IleDeFrance\, France;X-APPLE-RADIUS=100;X-TI
 TLE=le Baiser Salé:geo:48.8598,2.34791
END:VEVENT
BEGIN:VTIMEZONE
TZID:Europe/Paris
X-LIC-LOCATION:Europe/Paris
BEGIN:STANDARD
DTSTART:20121028T020000
TZOFFSETFROM:+0200
TZOFFSETTO:+0100
TZNAME:CET
END:STANDARD
END:VTIMEZONE
END:VCALENDAR