BEGIN:VCALENDAR
VERSION:2.0
PRODID:-//wp-events-plugin.com//7.2.3.1//EN
TZID:Europe/Paris
X-WR-TIMEZONE:Europe/Paris
BEGIN:VEVENT
UID:471@bananierbleu.fr
DTSTART;TZID=Europe/Paris:20130805T200000
DTEND;TZID=Europe/Paris:20130805T200000
DTSTAMP:20130323T163534Z
URL:https://bananierbleu.fr/concerts-test/gregory-privat-sonny-troupe-duo-
 3/
SUMMARY:Grégory Privat & Sonny Troupé duo - l'Atelier - 5 Août 13 20:00
DESCRIPTION:
CATEGORIES:Concerts en France
LOCATION:l'Atelier\, 6\, rue de Juillac\, Marciac\, 32230\, France
GEO:43.5246888;0.15993430000003173
X-APPLE-STRUCTURED-LOCATION;VALUE=URI;X-ADDRESS=6\, rue de Juillac\, Marcia
 c\, 32230\, France;X-APPLE-RADIUS=100;X-TITLE=l'Atelier:geo:43.5246888,0.1
 5993430000003173
END:VEVENT
BEGIN:VTIMEZONE
TZID:Europe/Paris
X-LIC-LOCATION:Europe/Paris
BEGIN:DAYLIGHT
DTSTART:20130331T030000
TZOFFSETFROM:+0100
TZOFFSETTO:+0200
TZNAME:CEST
END:DAYLIGHT
END:VTIMEZONE
END:VCALENDAR