BEGIN:VCALENDAR
VERSION:2.0
PRODID:-//wp-events-plugin.com//7.2.3.1//EN
TZID:Europe/Paris
X-WR-TIMEZONE:Europe/Paris
BEGIN:VEVENT
UID:2314@bananierbleu.fr
DTSTART;TZID=Europe/Paris:20171208T203000
DTEND;TZID=Europe/Paris:20171208T203000
DTSTAMP:20170710T103430Z
URL:https://bananierbleu.fr/concerts-test/gregory-privat-sonny-troupe-lumi
 nescence-4/
SUMMARY:Grégory Privat & Sonny Troupé "Luminescence" - le Petit Duc - 8 D
 éc 17 20:30
DESCRIPTION:Luminescence\nAvec un concept original autour du piano et du Ka
 *\, ces deux musiciens forgent une entente musicale d’exception. Leur t
 ête à tête à la fois grave et léger\, libre et rieur\, est « sans ba
 rrière de styles»\, riche en surprise rythmiques et délices mélodiques
 . Ils se lancent comme dans une course-poursuite\, dont on ne sait qui du 
 piano\, qui du ka* suit l’autre. Avec eux tout se joue en un mariage de 
 Jazz\, Biguine\, Hip Hop relevé\npar les sonorités du Gwoka**.\n*Ka : ta
 mbour traditionnel de la Guadeloupe\n**Gwoka : musique traditionnelle de G
 uadeloupe basée sur la percussion\, le chant et la danse.\nGrégory Priva
 t : piano\nSonny Troupé : tambour ka de Guadeloupe
ATTACH;FMTTYPE=image/jpeg:https://bananierbleu.fr/wp-content/uploads/2016/
 10/Sonny_Gregory.jpg
CATEGORIES:Concerts en France
LOCATION:le Petit Duc\, 1 rue Emile Tavan\, Aix en Provence\, PACA\, 13100\
 , PACA\, France
GEO:43.530038;5.441477
X-APPLE-STRUCTURED-LOCATION;VALUE=URI;X-ADDRESS=1 rue Emile Tavan\, Aix en 
 Provence\, PACA\, 13100\, PACA\, France;X-APPLE-RADIUS=100;X-TITLE=le Peti
 t Duc:geo:43.530038,5.441477
END:VEVENT
BEGIN:VTIMEZONE
TZID:Europe/Paris
X-LIC-LOCATION:Europe/Paris
BEGIN:STANDARD
DTSTART:20171029T020000
TZOFFSETFROM:+0200
TZOFFSETTO:+0100
TZNAME:CET
END:STANDARD
END:VTIMEZONE
END:VCALENDAR