BEGIN:VCALENDAR
VERSION:2.0
PRODID:-//wp-events-plugin.com//7.2.3.1//EN
TZID:Europe/Paris
X-WR-TIMEZONE:Europe/Paris
BEGIN:VEVENT
UID:618@bananierbleu.fr
DTSTART;TZID=Europe/Paris:20130930T220000
DTEND;TZID=Europe/Paris:20130930T220000
DTSTAMP:20130909T091510Z
URL:https://bananierbleu.fr/concerts-test/gregory-privat-the-children-of-c
 yparis-2/
SUMMARY:Grégory Privat & The Children Of Cyparis - Duc des Lombards - 30 S
 ep 13 22:00
DESCRIPTION:Le pianiste Gregory Privat s’est imposé comme l’un des mei
 lleurs de sa génération\, au fil de ses collaborations et de ses composi
 tions. Il nous fait le plaisir de revenir pour présenter son nouvel album
 \, « Tales of Cyparis » 
CATEGORIES:Concerts en France
LOCATION:Duc des Lombards\, 42\, rue des Lombards\, Paris\, Île de France\
 , 75001\, IleDeFrance\, France
GEO:48.8597;2.3486
X-APPLE-STRUCTURED-LOCATION;VALUE=URI;X-ADDRESS=42\, rue des Lombards\, Par
 is\, Île de France\, 75001\, IleDeFrance\, France;X-APPLE-RADIUS=100;X-TI
 TLE=Duc des Lombards:geo:48.8597,2.3486
END:VEVENT
BEGIN:VTIMEZONE
TZID:Europe/Paris
X-LIC-LOCATION:Europe/Paris
BEGIN:DAYLIGHT
DTSTART:20130331T030000
TZOFFSETFROM:+0100
TZOFFSETTO:+0200
TZNAME:CEST
END:DAYLIGHT
END:VTIMEZONE
END:VCALENDAR