BEGIN:VCALENDAR
VERSION:2.0
PRODID:-//wp-events-plugin.com//7.2.3.1//EN
TZID:Europe/Paris
X-WR-TIMEZONE:Europe/Paris
BEGIN:VEVENT
UID:2541@bananierbleu.fr
DTSTART;TZID=Europe/Paris:20180420T210000
DTEND;TZID=Europe/Paris:20180420T210000
DTSTAMP:20180307T085253Z
URL:https://bananierbleu.fr/concerts-test/gregory-privat-trio-17/
SUMMARY:Grégory Privat trio - Sunside - 20 Avr 18 21:00
DESCRIPTION:&nbsp\;Grégory Privat – piano \;&nbsp\;Chris Jennings&nbsp\;
 – c.basse \; Laurent Emmanuel “Tilo” Bertholo – batterie\n\n\n\nNo
 mmé aux Victoires du Jazz 2015 dans la catégorie Révélation Jazz\, Gr
 égory Privat poursuit son ascension. Après son duo remarqué avec Sonny 
 Troupé\, son « Tales of Cyparis » un hommage vibrant à sa terre natale
 \, et ses participations avec Lars Danielsson\, le pianiste martiniquais v
 ient de sortir son premier album en trio sur le label ACT et continue son 
 ascension jusqu’au zénith du jazz ! Le pianiste martiniquais récidive\
 , cette fois ci en trio\, avec Family Tree ! Un hommage émouvant à la mu
 sique martiniquaise\, ouvert à d’autres horizons et d’une rare sensib
 ilité\, comme en témoigne le morceau au piano «le Bonheur». Un album 
 à découvrir en urgence pour un pianiste devenu incontournable.&nbsp\;\n\
 n
ATTACH;FMTTYPE=image/jpeg:https://bananierbleu.fr/wp-content/uploads/2014/
 04/Grégory_Privat_Family_Tree.jpg
CATEGORIES:Concerts en France
LOCATION:Sunside\, 60\, rue des Lombards\, Paris\, Île de France\, 75001\,
  IleDeFrance\, France
GEO:48.859937;2.347751
X-APPLE-STRUCTURED-LOCATION;VALUE=URI;X-ADDRESS=60\, rue des Lombards\, Par
 is\, Île de France\, 75001\, IleDeFrance\, France;X-APPLE-RADIUS=100;X-TI
 TLE=Sunside:geo:48.859937,2.347751
END:VEVENT
BEGIN:VTIMEZONE
TZID:Europe/Paris
X-LIC-LOCATION:Europe/Paris
BEGIN:DAYLIGHT
DTSTART:20180325T030000
TZOFFSETFROM:+0100
TZOFFSETTO:+0200
TZNAME:CEST
END:DAYLIGHT
END:VTIMEZONE
END:VCALENDAR