BEGIN:VCALENDAR
VERSION:2.0
PRODID:-//wp-events-plugin.com//7.2.3.1//EN
TZID:Europe/Paris
X-WR-TIMEZONE:Europe/Paris
BEGIN:VEVENT
UID:2554@bananierbleu.fr
DTSTART;TZID=Europe/Paris:20180317T210000
DTEND;TZID=Europe/Paris:20180317T210000
DTSTAMP:20180316T075933Z
URL:https://bananierbleu.fr/concerts-test/groove-band-sextet/
SUMMARY:Groove Band Sextet - Ja'Ri Beach - 17 Mar 18 21:00
DESCRIPTION:Jocelyn Ménard Sax tenor - Joseph Casimir Batterie - Dimitri E
 douard Keys - Marc Jalet Bass - Nicolas Attie Guitare - Sylvain Joseph Sax
  alto :) !\n\nPour une soirée autour d'une bonne assiette ainsi que des g
 rands standards du jazz\, c'est avec nous que cela se passe &lt\;3.\n\nPou
 r mieux vous accueillir n'hésitez pas à réserver au 0590 94 51 32 ?.\nC
 onsommation obligatoire ?\, PAF 4€ pour les artistes :).
ATTACH;FMTTYPE=image/jpeg:https://bananierbleu.fr/wp-content/uploads/2018/
 03/live-jazz-groove-band-6tet-v0tmc.jpg
CATEGORIES:Concerts en Guadeloupe
LOCATION:Ja'Ri Beach\, Imm. Vital\, Bât. A\, bd Houelbourg\, ZI Jarry\, Ba
 ie-Mahault\, Guadeloupe\, 97122\, Guadeloupe\, Guadeloupe
GEO:16.242293;-61.559159
X-APPLE-STRUCTURED-LOCATION;VALUE=URI;X-ADDRESS=Imm. Vital\, Bât. A\, bd H
 ouelbourg\, ZI Jarry\, Baie-Mahault\, Guadeloupe\, 97122\, Guadeloupe\, Gu
 adeloupe;X-APPLE-RADIUS=100;X-TITLE=Ja'Ri Beach:geo:16.242293,-61.559159
END:VEVENT
BEGIN:VTIMEZONE
TZID:Europe/Paris
X-LIC-LOCATION:Europe/Paris
BEGIN:STANDARD
DTSTART:20171029T020000
TZOFFSETFROM:+0200
TZOFFSETTO:+0100
TZNAME:CET
END:STANDARD
END:VTIMEZONE
END:VCALENDAR