BEGIN:VCALENDAR
VERSION:2.0
PRODID:-//wp-events-plugin.com//7.2.3.1//EN
TZID:Europe/Paris
X-WR-TIMEZONE:Europe/Paris
BEGIN:VEVENT
UID:2117@bananierbleu.fr
DTSTART;TZID=Europe/Paris:20170216T200000
DTEND;TZID=Europe/Paris:20170216T200000
DTSTAMP:20170215T105603Z
URL:https://bananierbleu.fr/concerts-test/harmony-pipol-7/
SUMMARY:Harmony Pipol - La Créole Jazz Club - 16 Fév 17 20:00
DESCRIPTION:La Créole Beach reçoit Harmony Pipol. Venez apprécier un ré
 pertoire fait essentiellement de compositions originales ainsi que de quel
 ques reprises dans la mouvance Créole Blues.\n\nFrançois Denyze (guitare
 \, vocal)\nÉric Choukroun (bass\, vocal)\nGérald Bon (batterie)
ATTACH;FMTTYPE=image/jpeg:https://bananierbleu.fr/wp-content/uploads/2017/
 02/harmony.jpg
CATEGORIES:Concerts en Guadeloupe
LOCATION:La Créole Jazz Club\, Pointe de la Verdure\, Le Gosier\, Guadelou
 pe\, 97190\, Guadeloupe\, Guadeloupe
GEO:16.206832;-61.50359980000002
X-APPLE-STRUCTURED-LOCATION;VALUE=URI;X-ADDRESS=Pointe de la Verdure\, Le G
 osier\, Guadeloupe\, 97190\, Guadeloupe\, Guadeloupe;X-APPLE-RADIUS=100;X-
 TITLE=La Créole Jazz Club:geo:16.206832,-61.50359980000002
END:VEVENT
BEGIN:VTIMEZONE
TZID:Europe/Paris
X-LIC-LOCATION:Europe/Paris
BEGIN:STANDARD
DTSTART:20161030T020000
TZOFFSETFROM:+0200
TZOFFSETTO:+0100
TZNAME:CET
END:STANDARD
END:VTIMEZONE
END:VCALENDAR