BEGIN:VCALENDAR
VERSION:2.0
PRODID:-//wp-events-plugin.com//7.2.3.1//EN
TZID:Europe/Paris
X-WR-TIMEZONE:Europe/Paris
BEGIN:VEVENT
UID:600@bananierbleu.fr
DTSTART;TZID=Europe/Paris:20131208T200000
DTEND;TZID=Europe/Paris:20131208T200000
DTSTAMP:20140518T201233Z
URL:https://bananierbleu.fr/concerts-test/helmie-bellini-the-gentlemusicia
 ns/
SUMMARY:Helmie Bellini & The Gentlemusicians - Sunset - 8 Déc 13 20:00
DESCRIPTION:"il était une voix" en live au SunsetSunside (PARIS) le 8 déc
 embre / "il était une voix" live at Sunset (PARIS)on december 8th\n\nHelm
 ie Bellini &amp\; The Gentlemusicians :\n\nLeonardo Montana- piano/rhodes\
 nDamien Varaillon -contrebasse/basse\nArnaud Dolmen -Batterie/percussions\
 nHelmie Bellini - Chant\ninvité : Julien Alour - Trompette/bugle
CATEGORIES:Concerts en France
LOCATION:Sunset\, 60 rue des Lombards\, Paris\, Île de France\, 75001\, Il
 eDeFrance\, France
GEO:48.859937;2.347751
X-APPLE-STRUCTURED-LOCATION;VALUE=URI;X-ADDRESS=60 rue des Lombards\, Paris
 \, Île de France\, 75001\, IleDeFrance\, France;X-APPLE-RADIUS=100;X-TITL
 E=Sunset:geo:48.859937,2.347751
END:VEVENT
BEGIN:VTIMEZONE
TZID:Europe/Paris
X-LIC-LOCATION:Europe/Paris
BEGIN:STANDARD
DTSTART:20131027T020000
TZOFFSETFROM:+0200
TZOFFSETTO:+0100
TZNAME:CET
END:STANDARD
END:VTIMEZONE
END:VCALENDAR