BEGIN:VCALENDAR
VERSION:2.0
PRODID:-//wp-events-plugin.com//7.2.3.1//EN
TZID:Europe/Paris
X-WR-TIMEZONE:Europe/Paris
BEGIN:VEVENT
UID:2058@bananierbleu.fr
DTSTART;TZID=Europe/Paris:20170115T180000
DTEND;TZID=Europe/Paris:20170115T180000
DTSTAMP:20161229T174716Z
URL:https://bananierbleu.fr/concerts-test/henri-dikongue/
SUMMARY:Henri Dikongué - Savana Café - 15 Jan 17 18:00
DESCRIPTION:
ATTACH;FMTTYPE=image/jpeg:https://bananierbleu.fr/wp-content/uploads/2016/
 12/15259214_10154996432413273_8620346762267506423_o.jpg
CATEGORIES:Concerts en France
LOCATION:Savana Café\, 31 quai Veil Picard\, Besançon\, 25000\, France
GEO:47.23911589999999;6.018907200000058
X-APPLE-STRUCTURED-LOCATION;VALUE=URI;X-ADDRESS=31 quai Veil Picard\, Besan
 çon\, 25000\, France;X-APPLE-RADIUS=100;X-TITLE=Savana Café:geo:47.23911
 589999999,6.018907200000058
END:VEVENT
BEGIN:VTIMEZONE
TZID:Europe/Paris
X-LIC-LOCATION:Europe/Paris
BEGIN:STANDARD
DTSTART:20161030T020000
TZOFFSETFROM:+0200
TZOFFSETTO:+0100
TZNAME:CET
END:STANDARD
END:VTIMEZONE
END:VCALENDAR