BEGIN:VCALENDAR
VERSION:2.0
PRODID:-//wp-events-plugin.com//7.2.3.1//EN
TZID:Europe/Paris
X-WR-TIMEZONE:Europe/Paris
BEGIN:VEVENT
UID:570@bananierbleu.fr
DTSTART;TZID=Europe/Paris:20130726T213000
DTEND;TZID=Europe/Paris:20130726T213000
DTSTAMP:20130622T162118Z
URL:https://bananierbleu.fr/concerts-test/herve-lebongo-afro-beat-party-ho
 mmage-a-fela-3/
SUMMARY:Hervé Lebongo - afro-beat party / hommage à Fela - le Baiser Sal
 é - 26 Juil 13 21:30
DESCRIPTION:HERVE LEBONGO PROJECT\nSimon Clavel batterie\, Cyril Barbessol 
 piano\,\nOlivier Dongala guitare\, Christophe Borilla basse\,\nFrédéric 
 Calmeil trombone\, Rémi Merlet percu\,\nHervé Lebongo lead /voix/ sax.\n
 \nHervé Lebongo\nD’origine camerounaise\, le saxophoniste et chanteur s
 ’inscrit dans un nouveau courant musical afro. Il est remarqué en 1997 
 lorsqu’il prend la direction musicale du groupe Touré Kunda. Il puise d
 ans les racines ancestrales de l’Afrique noire\, pour nous délivrer une
  musique afro-soul dans le respect de ses pères (Manu Dibango\, Youssou n
 ’dour\, Salif Keita\, Fela\, Tony Allen…)... C’est dans cette optiqu
 e qu’il met sur pied le Panafrika Project avec lequel il crée des compo
 sitions originales et reprend des morceaux empruntés aux grands de la mus
 ique africaine. Pour le spectateur\, mélomane ou novice\, c’est une bal
 lade entre l’univers connu du patrimoine africain et la découverte de s
 es compositions.
CATEGORIES:Concerts en France
LOCATION:le Baiser Salé\, 58\, rue des Lombards\, Paris\, Île de France\,
  75001\, IleDeFrance\, France
GEO:48.8598;2.34791
X-APPLE-STRUCTURED-LOCATION;VALUE=URI;X-ADDRESS=58\, rue des Lombards\, Par
 is\, Île de France\, 75001\, IleDeFrance\, France;X-APPLE-RADIUS=100;X-TI
 TLE=le Baiser Salé:geo:48.8598,2.34791
END:VEVENT
BEGIN:VTIMEZONE
TZID:Europe/Paris
X-LIC-LOCATION:Europe/Paris
BEGIN:DAYLIGHT
DTSTART:20130331T030000
TZOFFSETFROM:+0100
TZOFFSETTO:+0200
TZNAME:CEST
END:DAYLIGHT
END:VTIMEZONE
END:VCALENDAR