BEGIN:VCALENDAR
VERSION:2.0
PRODID:-//wp-events-plugin.com//7.2.3.1//EN
TZID:Europe/Paris
X-WR-TIMEZONE:Europe/Paris
BEGIN:VEVENT
UID:549@bananierbleu.fr
DTSTART;TZID=Europe/Paris:20130629T213000
DTEND;TZID=Europe/Paris:20130629T213000
DTSTAMP:20130601T085708Z
URL:https://bananierbleu.fr/concerts-test/herve-lebongo-project-hommage-a-
 fela/
SUMMARY:Hervé Lebongo project - Hommage à Fela - le Baiser Salé - 29 Jui
 n 13 21:30
DESCRIPTION:Simon Clavel batterie\, Cyril Barbessol piano\,\nOlivier Dongal
 a guitare\, Christophe Borilla basse\,\nFrédéric Calmeil trombone\, Rém
 i Merlet percu\,\nHervé Lebongo lead /voix/ sax.\nHervé Lebongo\, par un
  langage musical et culturel original\, rend hommage au père de l’Afrob
 eat\, Fela. Cette musique fabuleuse\, cocktail détonnant de high-life\, j
 azz\, funk\, juju music\, mâtiné de revendications politiques et de cont
 estations sociales! Avec ces musiciens\, il vous ballade à travers l’un
 ivers du patrimoine africain et vous fait revivre les ambiances du Shrine 
 Afrobeat. 
CATEGORIES:Concerts en France
LOCATION:le Baiser Salé\, 58\, rue des Lombards\, Paris\, Île de France\,
  75001\, IleDeFrance\, France
GEO:48.8598;2.34791
X-APPLE-STRUCTURED-LOCATION;VALUE=URI;X-ADDRESS=58\, rue des Lombards\, Par
 is\, Île de France\, 75001\, IleDeFrance\, France;X-APPLE-RADIUS=100;X-TI
 TLE=le Baiser Salé:geo:48.8598,2.34791
END:VEVENT
BEGIN:VTIMEZONE
TZID:Europe/Paris
X-LIC-LOCATION:Europe/Paris
BEGIN:DAYLIGHT
DTSTART:20130331T030000
TZOFFSETFROM:+0100
TZOFFSETTO:+0200
TZNAME:CEST
END:DAYLIGHT
END:VTIMEZONE
END:VCALENDAR