BEGIN:VCALENDAR
VERSION:2.0
PRODID:-//wp-events-plugin.com//7.2.3.1//EN
TZID:Europe/Paris
X-WR-TIMEZONE:Europe/Paris
BEGIN:VEVENT
UID:3866@bananierbleu.fr
DTSTART;TZID=Europe/Paris:20250111T203000
DTEND;TZID=Europe/Paris:20250111T203000
DTSTAMP:20241205T135914Z
URL:https://bananierbleu.fr/concerts-test/herve-samb-teranga-band/
SUMMARY:Herve Samb & Teranga Band - Sunset - 11 Jan 25 20:30
DESCRIPTION:\n 	Herve Samb - guitare\, voix\n 	Cheikh Diallo - piano\, keyb
 oard\, voix\n 	Samba Laobe Ndiaye - basse\n 	Macodou Ndiaye - batterie\n 	
 Mor Junior Ndiaye - sabar\, percussions\n\nPlongez dans l’univers du Jaz
 z Sabar\, une fusion unique entre jazz et rythmes sénégalais.\nHerve Sam
 b\, virtuose de la guitare\, et son Teranga Band vous emportent dans un vo
 yage musical vibrant.\nUne soirée pleine d’énergie\, de passion et de 
 grooves authentiques.
ATTACH;FMTTYPE=image/jpeg:https://bananierbleu.fr/wp-content/uploads/2024/
 12/Herve_Samb_Teranga.jpg
CATEGORIES:Concerts en France
LOCATION:Sunset\, 60 rue des Lombards\, Paris\, Île de France\, 75001\, Il
 eDeFrance\, France
GEO:48.859937;2.347751
X-APPLE-STRUCTURED-LOCATION;VALUE=URI;X-ADDRESS=60 rue des Lombards\, Paris
 \, Île de France\, 75001\, IleDeFrance\, France;X-APPLE-RADIUS=100;X-TITL
 E=Sunset:geo:48.859937,2.347751
END:VEVENT
BEGIN:VTIMEZONE
TZID:Europe/Paris
X-LIC-LOCATION:Europe/Paris
BEGIN:STANDARD
DTSTART:20241027T020000
TZOFFSETFROM:+0200
TZOFFSETTO:+0100
TZNAME:CET
END:STANDARD
END:VTIMEZONE
END:VCALENDAR